BEGIN:VCALENDAR
VERSION:2.0
PRODID:-//ChamberMaster//Event Calendar 2.0//EN
METHOD:PUBLISH
X-PUBLISHED-TTL:P3D
REFRESH-INTERVAL:P3D
CALSCALE:GREGORIAN
BEGIN:VEVENT
DTSTART:20220609T120000Z
DTEND:20220609T133500Z
X-MICROSOFT-CDO-ALLDAYEVENT:FALSE
SUMMARY:Membership Breakfast - Leadership TriCounty Lessons Learned
DESCRIPTION:Join us as the Leadership TriCounty Class of 2022 shares lessons they've learned from local leaders and through their exploration of TriCounty Area Region!\n\n \nOnline registration closes on 6/01/22 at 12 noon. Please call the office if you would like to register after this time.   Registration is required!
X-ALT-DESC;FMTTYPE=text/html:<div><span style="font-size:16px\;"><font face="arial">Join us as the Leadership TriCounty Class of 2022 shares lessons they&#39\;ve learned from local leaders and through their exploration of TriCounty Area Region!</font></span><br />\n&nbsp\;</div>\n<span style="font-size:14px\;"><span style="font-family:arial\;"><strong style="color: rgb(51\, 51\, 51)\; font-family: arial\; font-size: 12px\; line-height: 12.8px\; background-color: rgb(255\, 255\, 255)\;"><em>Online registration closes on 6/01/22 at 12 noon. Please call the office if you would like to register after this time.&nbsp\; &nbsp\;</em></strong></span></span><strong style="color: rgb(255\, 0\, 0)\; font-family: arial\; font-size: 14px\;">Registration is required!</strong>\n\n<p>&nbsp\;</p>\n
LOCATION:New Hanover UMC - North Campus Upper Level - 200 Catered breakfast by Bause Catering.
UID:e.2183.857696
SEQUENCE:3
DTSTAMP:20260422T201556Z
URL:https://business.tricountyareachamber.com/events/details/membership-breakfast-leadership-tricounty-lessons-learned-857696
END:VEVENT

END:VCALENDAR
