BEGIN:VCALENDAR
VERSION:2.0
PRODID:-//ChamberMaster//Event Calendar 2.0//EN
METHOD:PUBLISH
X-PUBLISHED-TTL:P3D
REFRESH-INTERVAL:P3D
CALSCALE:GREGORIAN
BEGIN:VEVENT
DTSTART:20181206T163000Z
DTEND:20181206T183000Z
X-MICROSOFT-CDO-ALLDAYEVENT:FALSE
SUMMARY:Membership Luncheon: Gathering of Gratitude
DESCRIPTION:TriCounty Area Chamber of Commerce welcomes you to a FREE Membership Luncheon that will be taking the place of our monthly breakfast. Join us at the Western Montgomery Career & Technology Center for an amazing lunch prepared by the students and staff. During the holiday's we all feel a sense of gratitude towards one another and the Chamber is no different. We would like to thank our members for being a part of our organization and share our new initiatives with everyone.\n\n\n\nTours of the facility will be available from 1:00pm-1:30pm after the luncheon presentation is complete.\n\n\n\nOne of our sponsors\, Pottstown Area Rapid Transit or PART\, is collecting donations! Bring a personal hygiene donation with you to the luncheon and get a free spin of "The Chamber Wheel" to win a prize!
X-ALT-DESC;FMTTYPE=text/html:TriCounty Area Chamber of Commerce welcomes you to a&nbsp\;FREE Membership Luncheon that will be taking the place of our monthly breakfast. Join us at the Western Montgomery Career &amp\; Technology Center for an amazing lunch prepared by the students and staff. During the holiday&#39\;s we all feel a sense of gratitude towards one another and the Chamber is no different. We would like to thank our members for being a part of our organization and share our new initiatives with everyone.<br />\n<br />\nTours of the facility will be available from 1:00pm-1:30pm after the luncheon presentation is complete.<br />\n<br />\nOne of our sponsors\, Pottstown Area Rapid Transit or PART\, is collecting donations! Bring a personal hygiene donation with you to the luncheon and get a free spin of &quot\;The Chamber Wheel&quot\; to win a prize!
LOCATION:Western Montgomery Career & Technology Center 77 Graterford Rd. Limerick\, PA 19468
UID:e.2183.851728
SEQUENCE:3
DTSTAMP:20260423T115226Z
URL:https://business.tricountyareachamber.com/events/details/membership-luncheon-gathering-of-gratitude-851728
END:VEVENT

END:VCALENDAR
