BEGIN:VCALENDAR
VERSION:2.0
PRODID:-//ChamberMaster//Event Calendar 2.0//EN
METHOD:PUBLISH
X-PUBLISHED-TTL:P3D
REFRESH-INTERVAL:P3D
CALSCALE:GREGORIAN
BEGIN:VEVENT
DTSTART:20191205T170000Z
DTEND:20191205T183000Z
X-MICROSOFT-CDO-ALLDAYEVENT:FALSE
SUMMARY:Membership Luncheon: Gathering of Gratitude
DESCRIPTION:TriCounty Area Chamber of Commerce welcomes you to a FREE Membership Luncheon that will be taking the place of our monthly breakfast. Join us at the Western Montgomery Career & Technology Center for an amazing lunch prepared by the students and staff. During the holidays\, we all feel a sense of gratitude towards one another and the Chamber is no different. We would like to thank our members for being a part of our organization and share our new initiatives with everyone.\n\n\n\nOptional tour of facility after lunch.\n\n\n\nOne of our sponsors\, Pottstown Area Rapid Transit or PART\, is collecting donations! Bring a personal hygiene donation with you to the luncheon and get a free spin of "The Chamber Wheel" to win a prize!
X-ALT-DESC;FMTTYPE=text/html:<span style="font-size:12px\;"><span style="font-family:arial\;">TriCounty Area Chamber of Commerce welcomes you to a&nbsp\;FREE Membership Luncheon that will be taking the place of our monthly breakfast. Join us at the Western Montgomery Career &amp\; Technology Center for an amazing lunch prepared by the students and staff. During the holidays\,&nbsp\;</span>we all feel a sense of gratitude towards one another and the Chamber is no different. We would like to thank our members for being a part of our organization and share our new initiatives with everyone.</span><br />\n<br />\nOptional tour of facility after lunch.<br />\n<br />\nOne of our sponsors\, Pottstown Area Rapid Transit or PART\, is collecting donations! Bring a personal hygiene donation with you to the luncheon and get a free spin of &quot\;The Chamber Wheel&quot\; to win a prize!
LOCATION:Western Montgomery Career & Technology Center 77 Graterford Rd. Limerick\, PA 19468
UID:e.2183.852518
SEQUENCE:3
DTSTAMP:20260424T201238Z
URL:https://business.tricountyareachamber.com/events/details/membership-luncheon-gathering-of-gratitude-852518
END:VEVENT

END:VCALENDAR
