BEGIN:VCALENDAR
VERSION:2.0
PRODID:-//ChamberMaster//Event Calendar 2.0//EN
METHOD:PUBLISH
X-PUBLISHED-TTL:P3D
REFRESH-INTERVAL:P3D
CALSCALE:GREGORIAN
BEGIN:VEVENT
DTSTART:20170815T180000Z
DTEND:20170815T230000Z
X-MICROSOFT-CDO-ALLDAYEVENT:FALSE
SUMMARY:Memorial Blood Drive
DESCRIPTION:A blood drive in memory of Joseph McLaughlin who passed away suddenly on June 14\, 2017 at age 38. Joe was a loving husband\, father\, son\, brother\, uncle\, friend - please consider donating blood in his honor! \n\n\n\nEven if you didn't know Joe\, supplies are very limited after the busy summer months. Please help replenish local supplies. Every donation can save up to three lives!\n\n\n\nRegister by clicking this link - \n\nhttps://donor.giveapint.org/donor/schedules/drive_schedule/38758
X-ALT-DESC;FMTTYPE=text/html:A blood drive in memory of Joseph McLaughlin who passed away suddenly on June 14\, 2017 at age 38. Joe was a loving husband\, father\, son\, brother\, uncle\, friend - please consider donating blood in his honor!&nbsp\;<br />\n<br />\nEven if you didn&#39\;t know Joe\, supplies are very limited after the busy summer months. Please help replenish local supplies. Every donation can save up to three lives!<br />\n<br />\nRegister by clicking this link -&nbsp\;<br />\n<a href="https://donor.giveapint.org/donor/schedules/drive_schedule/38758">https://donor.giveapint.org/donor/schedules/drive_schedule/38758</a>
LOCATION:St. Columbkill Church 200 Indian Spring Road Boyertown\, PA 19512
UID:e.2183.848726
SEQUENCE:3
DTSTAMP:20260421T012945Z
URL:https://business.tricountyareachamber.com/events/details/memorial-blood-drive-848726
END:VEVENT

END:VCALENDAR
