BEGIN:VCALENDAR
VERSION:2.0
PRODID:-//ChamberMaster//Event Calendar 2.0//EN
METHOD:PUBLISH
X-PUBLISHED-TTL:P3D
REFRESH-INTERVAL:P3D
CALSCALE:GREGORIAN
BEGIN:VEVENT
DTSTART:20180311T190000Z
DTEND:20180311T220000Z
X-MICROSOFT-CDO-ALLDAYEVENT:FALSE
SUMMARY:Menopause the Musical
DESCRIPTION:COME JOIN OUR SISTERHOOD! Four women at a lingerie sale with nothing in common but a black lace bra AND memory loss\, hot flashes\, night sweats\, not enough sex\, too much sex and more! This hilarious musical parody set to classic tunes from the '60s\, '70s and '80s will have you cheering and dancing in the aisles! See what millions of women worldwide have been laughing about for 16 years! It's the Hilarious Celebration of Women and The Change!
X-ALT-DESC;FMTTYPE=text/html:COME JOIN OUR SISTERHOOD! Four women at a lingerie sale with nothing in common but a black lace bra AND memory loss\, hot flashes\, night sweats\, not enough sex\, too much sex and more! This hilarious musical parody set to classic tunes from the &lsquo\;60s\, &lsquo\;70s and &lsquo\;80s will have you cheering and dancing in the aisles! See what millions of women worldwide have been laughing about for 16 years! It&rsquo\;s the Hilarious Celebration of Women and The Change!&reg\;
LOCATION:Santander Performing Arts Center
UID:e.2183.850234
SEQUENCE:3
DTSTAMP:20260421T123726Z
URL:https://business.tricountyareachamber.com/events/details/menopause-the-musical-850234
END:VEVENT

END:VCALENDAR
