BEGIN:VCALENDAR
VERSION:2.0
PRODID:-//ChamberMaster//Event Calendar 2.0//EN
METHOD:PUBLISH
X-PUBLISHED-TTL:P3D
REFRESH-INTERVAL:P3D
CALSCALE:GREGORIAN
BEGIN:VEVENT
DTSTART:20171025T160000Z
DTEND:20171025T170000Z
X-MICROSOFT-CDO-ALLDAYEVENT:FALSE
SUMMARY:Mercury Mile
DESCRIPTION:TriCounty Area Chamber of Commerce Worksite Wellness Initiative is hosting The Mercury Mile\n\n\nThe Mercury Mile is a weekly 1-mile community walk or activity. The location changes week to week as different organizations host the lunchtime activity.\n\n\n\nFor more information about The Mercury Mile\, or if you're interested in hosting a walk or activity\, contact: Aixa Torregrosa-Vazquez at atorregrosa@thereporteronline.com or 215.648.1125.
X-ALT-DESC;FMTTYPE=text/html:<div style="text-align: center\;"><span style="font-size:18px\;"><strong>TriCounty Area Chamber of Commerce Worksite Wellness Initiative is hosting The Mercury Mile</strong></span></div>\n<br />\nThe Mercury Mile is a weekly 1-mile community walk or activity. The location changes week to week as different organizations host the lunchtime activity.<br />\n<br />\nFor more information about The Mercury Mile\, or if you&#39\;re interested in hosting a walk or activity\, contact: Aixa Torregrosa-Vazquez at atorregrosa@thereporteronline.com or 215.648.1125.
LOCATION:Meet at 12 noon at: 152 East High Street Pottstown\, PA 19464
UID:e.2183.848869
SEQUENCE:3
DTSTAMP:20260421T042538Z
URL:https://business.tricountyareachamber.com/events/details/mercury-mile-848869
END:VEVENT

END:VCALENDAR
