BEGIN:VCALENDAR
VERSION:2.0
PRODID:-//ChamberMaster//Event Calendar 2.0//EN
METHOD:PUBLISH
X-PUBLISHED-TTL:P3D
REFRESH-INTERVAL:P3D
CALSCALE:GREGORIAN
BEGIN:VEVENT
DTSTART:20220224T140000Z
DTEND:20220224T210000Z
X-MICROSOFT-CDO-ALLDAYEVENT:FALSE
SUMMARY:MGT-470: Establishing Collaborative Case Management Services
DESCRIPTION:This instructor-led training will present information on how communities can establish collaborative case management services. The course will introduce lessons learned from recent disasters and will provide an overview of currently available resources and tools for effective disaster case management. The curriculum will include opportunities to develop stronger partnerships between the public and private sectors\, provide checklist-based resources for use in a pre- and post-disaster environment\, and best practices for enhancing collaborative case management services.
X-ALT-DESC;FMTTYPE=text/html:This instructor-led training will present information on how communities can establish collaborative case management services. The course will introduce lessons learned from recent disasters and will provide an overview of currently available resources and tools for effective disaster case management. The curriculum will include opportunities to develop stronger partnerships between the public and private sectors\, provide checklist-based resources for use in a pre- and post-disaster environment\, and best practices for enhancing collaborative case management services.
LOCATION:DoubleTree Suites by Hilton\, Philadelphia West 640 Fountain Road\, Plymouth Meeting\, PA 19462
UID:e.2183.857549
SEQUENCE:3
DTSTAMP:20260424T145534Z
URL:https://business.tricountyareachamber.com/events/details/mgt-470-establishing-collaborative-case-management-services-857549
END:VEVENT

END:VCALENDAR
