BEGIN:VCALENDAR
VERSION:2.0
PRODID:-//ChamberMaster//Event Calendar 2.0//EN
METHOD:PUBLISH
X-PUBLISHED-TTL:P3D
REFRESH-INTERVAL:P3D
CALSCALE:GREGORIAN
BEGIN:VEVENT
DTSTART:20170224T133000Z
DTEND:20170224T150000Z
X-MICROSOFT-CDO-ALLDAYEVENT:FALSE
SUMMARY:"Millennials - The Forefront of the Workplace" Workshop
DESCRIPTION:Join us for the second in the series of "Refresh Fridays" as Heather Chandler\, President of Sealstrip Corporation and TCACC Board of Directors\, focuses on how Millennials\, now the largest demographic in the workplace\, surpassing Gen X and Baby Boomers\, are changing every aspect of business\, from hiring\, perks\, purpose\, training\, customer interface\, technology\, and retention and how to make the most of their impact on the workplace and the bottom line.
X-ALT-DESC;FMTTYPE=text/html:<span style="font-family:times new roman\,serif\;"><span style="font-size:12.0pt\;">Join us for the second in the series of <strong>&ldquo\;Refresh Fridays&rdquo\;</strong> as <strong>Heather Chandler</strong>\, President of Sealstrip Corporation and TCACC Board of Directors\, focuses on how <strong>Millennials</strong>\, now the largest demographic in the workplace\, surpassing Gen X and Baby Boomers\, are changing every aspect of business\, from hiring\, perks\, purpose\, training\, customer interface\, technology\, and retention and how to make the most of their impact on the workplace and the bottom line.</span></span>
LOCATION:Chamber Office 152 E. High St.\, Suite 360 Pottstown\, PA 19464
UID:e.2183.847412
SEQUENCE:3
DTSTAMP:20260420T151940Z
URL:https://business.tricountyareachamber.com/events/details/millennials-the-forefront-of-the-workplace-workshop-847412
END:VEVENT

END:VCALENDAR
