BEGIN:VCALENDAR
VERSION:2.0
PRODID:-//ChamberMaster//Event Calendar 2.0//EN
METHOD:PUBLISH
X-PUBLISHED-TTL:P3D
REFRESH-INTERVAL:P3D
CALSCALE:GREGORIAN
BEGIN:VEVENT
DTSTART:20170413T140000Z
DTEND:20170413T180000Z
X-MICROSOFT-CDO-ALLDAYEVENT:FALSE
SUMMARY:Mobile Job Lab
DESCRIPTION:Looking for a Job? Don't miss the Mobile Job Lab!\n\n\nRep. Marcy Toepel is providing this Job Lab\, in partnership with TriCounty Community Network.\n\n\n\nThe free event will be held on Thursday\, April 13 from 10 AM - 2 PM\, 1885 Swamp Pike\, Suite 107\, Gilberbertsville.\n\n\n\nVolunteers will assist participants with:\n\n	Building resumes and cover letters\n	Setting up a LinkedIn account\n	Interview techniques\n	Creating an email address\n\nThose interested in attending the free job lab are asked to register online at www.RepToepel.com or by calling her district office at 610.323.3299.
X-ALT-DESC;FMTTYPE=text/html:<div style="text-align: center\;">Looking for a Job? Don&#39\;t miss the Mobile Job Lab!</div>\n<br />\nRep. Marcy Toepel is providing this Job Lab\, in partnership with TriCounty Community Network.<br />\n<br />\nThe free event will be held on Thursday\, April 13 from 10 AM - 2 PM\, 1885 Swamp Pike\, Suite 107\, Gilberbertsville.<br />\n<br />\nVolunteers will assist participants with:\n<ul>\n	<li>Building resumes and cover letters</li>\n	<li>Setting up a LinkedIn account</li>\n	<li>Interview techniques</li>\n	<li>Creating an email address</li>\n</ul>\nThose interested in attending the free job lab are asked to register online at <a href="http://www.RepToepel.com">www.RepToepel.com</a> or by calling her district office at 610.323.3299.
LOCATION:1885 Swamp Pike Suite 107 Gilbertsville\, PA 19525
UID:e.2183.847604
SEQUENCE:3
DTSTAMP:20260420T181930Z
URL:https://business.tricountyareachamber.com/events/details/mobile-job-lab-847604
END:VEVENT

END:VCALENDAR
