BEGIN:VCALENDAR
VERSION:2.0
PRODID:-//ChamberMaster//Event Calendar 2.0//EN
METHOD:PUBLISH
X-PUBLISHED-TTL:P3D
REFRESH-INTERVAL:P3D
CALSCALE:GREGORIAN
BEGIN:VEVENT
DTSTART:20241008T150000Z
DTEND:20241008T160000Z
X-MICROSOFT-CDO-ALLDAYEVENT:FALSE
SUMMARY:Montco 2050: A Comprehensive Plan for a Changing World
DESCRIPTION:October 8th session -\n\nYou are invited to a Zoom meeting.\n\nWhen: Oct 8\, 2024 11:00 AM Eastern Time (US and Canada)\n\nRegister in advance for this meeting:\n\nhttps://zoom.us/meeting/register/tJAvcuGgrjwtE9VjEy56PzvrgrEDpCOT4m0p\n\n \n\nOctober 18th session:\n\nYou are invited to a Zoom meeting.\n\nWhen: Oct 18\, 2024 01:00 PM Eastern Time (US and Canada)\n\nRegister in advance for this meeting:\n\nhttps://zoom.us/meeting/register/tJwkcuyvrTgoEtG0uTtF-RbpsKEQo7oGjkyO\n\n \n\nAfter registering\, you will receive a confirmation email containing information about joining the meeting.\n\n \n\nThe Montgomery County Planning Commission is currently hard at work on a new comprehensive plan for the county\, called Montco 2050: A Comprehensive Plan for a Changing World.  Comprehensive plans set priorities and goals for the county's future on topics like housing\, transportation\, growth and development\, open space\, trails\, and economic development. \n\n \n\nThe county's business community is a crucial part of what propels Montgomery County forward each day.  Planning Commission staff would love to hear from you about what's working (and what's not) about having a business in the county.  Please join us for a virtual feedback session at one of the below dates and times.  If these times are inconvenient\, you can join us anytime at Engage Montco\, an online platform that's designed for outreach and engagement.  You can also find out more about our planning process on the county's website.
X-ALT-DESC;FMTTYPE=text/html:<strong>October 8th session -</strong><br />\nYou are invited to a Zoom meeting.<br />\nWhen: Oct 8\, 2024 11:00 AM Eastern Time (US and Canada)<br />\nRegister in advance for this meeting:<br />\n<a href="https://zoom.us/meeting/register/tJAvcuGgrjwtE9VjEy56PzvrgrEDpCOT4m0p">https://zoom.us/meeting/register/tJAvcuGgrjwtE9VjEy56PzvrgrEDpCOT4m0p</a><br />\n&nbsp\;<br />\n<strong>October 18th session:</strong><br />\nYou are invited to a Zoom meeting.<br />\nWhen: Oct 18\, 2024 01:00 PM Eastern Time (US and Canada)<br />\nRegister in advance for this meeting:<br />\n<a href="https://zoom.us/meeting/register/tJwkcuyvrTgoEtG0uTtF-RbpsKEQo7oGjkyO">https://zoom.us/meeting/register/tJwkcuyvrTgoEtG0uTtF-RbpsKEQo7oGjkyO</a><br />\n&nbsp\;<br />\nAfter registering\, you will receive a confirmation email containing information about joining the meeting.<br />\n&nbsp\;<br />\nThe Montgomery County Planning Commission is currently hard at work on a new comprehensive plan for the county\, called <em>Montco 2050: A Comprehensive Plan for a Changing World</em>.&nbsp\; Comprehensive plans set priorities and goals for the county&rsquo\;s future on topics like housing\, transportation\, growth and development\, open space\, trails\, and economic development.&nbsp\;<br />\n&nbsp\;<br />\nThe county&rsquo\;s business community is a crucial part of what propels Montgomery County forward each day.&nbsp\; Planning Commission staff would love to hear from you about what&rsquo\;s working (and what&rsquo\;s not) about having a business in the county.&nbsp\; Please join us for a virtual feedback session at one of the below dates and times.&nbsp\; If these times are inconvenient\, you can join us anytime at <span style="color:#1F497D\;"><a href="https://engage.montgomerycountypa.gov/en/">Engage Montco</a></span>\, an online platform that&rsquo\;s designed for outreach and engagement.&nbsp\; You can also find out more about our planning process on the county&rsquo\;s <span style="color:#1F497D\;"><a href="http://www.montgomerycountypa.gov/montco2050">website</a>.</span><br />\n&nbsp\;
LOCATION:
UID:e.2183.861509
SEQUENCE:3
DTSTAMP:20260421T125916Z
URL:https://business.tricountyareachamber.com/events/details/montco-2050-a-comprehensive-plan-for-a-changing-world-861509
END:VEVENT

END:VCALENDAR
