BEGIN:VCALENDAR
VERSION:2.0
PRODID:-//ChamberMaster//Event Calendar 2.0//EN
METHOD:PUBLISH
X-PUBLISHED-TTL:P3D
REFRESH-INTERVAL:P3D
CALSCALE:GREGORIAN
BEGIN:VEVENT
DTSTART:20200924T143000Z
DTEND:20200924T153000Z
X-MICROSOFT-CDO-ALLDAYEVENT:FALSE
SUMMARY:Montgomery County Candidates Conversation
DESCRIPTION:The Montgomery County Candidates Conversation is on September 24\, 2020 at 10:30AM.  You can register in advance here: https://zoom.us/webinar/register/WN_OE0gAcubRlyEMv3w_yEJ4A.  After registering\, you will receive a confirmation email containing information about joining the webinar. It's free and you can join in easily. Take an hour to tune in   a robust early learning sector supports us all.
X-ALT-DESC;FMTTYPE=text/html:<span style="font-size:18px\;"><span style="font-family:times new roman\;"><span style="color:black\;">The Montgomery County Candidates Conversation is on September 24\, 2020 at 10:30AM.&nbsp\; You can register in advance here: https://zoom.us/webinar/register/WN_OE0gAcubRlyEMv3w_yEJ4A.&nbsp\; After registering\, you will receive a confirmation email containing information about joining the webinar. </span><a href="https://zoom.us/webinar/register/WN_OE0gAcubRlyEMv3w_yEJ4A"><span style="letter-spacing:.15pt\;background:white\;">It&rsquo\;s free and you can join in easily</span></a><span style="letter-spacing:.15pt\;background:white\;"><span style="color:#202124\;">. Take an hour to tune in &mdash\; a robust early learning sector supports us all. </span></span></span></span>
LOCATION:Webinar
UID:e.2183.856357
SEQUENCE:3
DTSTAMP:20260425T214541Z
URL:https://business.tricountyareachamber.com/events/details/montgomery-county-candidates-conversation-856357
END:VEVENT

END:VCALENDAR
