BEGIN:VCALENDAR
VERSION:2.0
PRODID:-//ChamberMaster//Event Calendar 2.0//EN
METHOD:PUBLISH
X-PUBLISHED-TTL:P3D
REFRESH-INTERVAL:P3D
CALSCALE:GREGORIAN
BEGIN:VEVENT
DTSTART:20241029T130000Z
DTEND:20241029T143000Z
X-MICROSOFT-CDO-ALLDAYEVENT:FALSE
SUMMARY:Montgomery County Commerce Department Resource Review and Check In
DESCRIPTION:View flyer here
X-ALT-DESC;FMTTYPE=text/html:<span style="font-size:18px\;"><a href="https://chambermaster.blob.core.windows.net/userfiles/UserFiles/chambers/2183/File/ResourceandReviewOctober29Event.pdf">View flyer here</a> </span>
LOCATION:
UID:e.2183.861518
SEQUENCE:3
DTSTAMP:20260421T130202Z
URL:https://business.tricountyareachamber.com/events/details/montgomery-county-commerce-department-resource-review-and-check-in-861518
END:VEVENT

END:VCALENDAR
