BEGIN:VCALENDAR
VERSION:2.0
PRODID:-//ChamberMaster//Event Calendar 2.0//EN
METHOD:PUBLISH
X-PUBLISHED-TTL:P3D
REFRESH-INTERVAL:P3D
CALSCALE:GREGORIAN
BEGIN:VEVENT
DTSTART:20210504T210000Z
DTEND:20210504T220000Z
X-MICROSOFT-CDO-ALLDAYEVENT:FALSE
SUMMARY:Montgomery County Community College spring online open house
DESCRIPTION:Discover all that Montgomery County Community College has to offer at our Spring Online Open Houses on Tuesday\, May 4 from 12-1 p.m. and 5-6 p.m. During our open house events\, you'll have the opportunity to: \n\n \n\n	Enjoy a wide range of opportunities to learn about what Montco offers its students\; \n	Learn about our flexible schedules and programs\;\n	Discover affordable ways to pay for college\;\n	Ask your questions during live Q&A breakout rooms with faculty and staff\;\n	and more!\n\n During the scheduled hour\, guests will have the chance to explore all that Montco has to offer and receive one-on-one consultation through our Community and Breakout Rooms. Or if you're a self-taught learner\, go at your own pace and watch our?Pre-Recorded Sessions. We can't wait to meet you!
X-ALT-DESC;FMTTYPE=text/html:<span style="font-family:calibri light\,sans-serif"><span style="font-size:13.0pt">Discover all that Montgomery County Community College has to offer at our Spring Online Open Houses on Tuesday\, May 4 from 12-1 p.m. and 5-6 p.m. During our open house events\, you&rsquo\;ll have the opportunity to: </span></span><br />\n&nbsp\;\n<ul>\n	<li><span style="font-family:calibri light\,sans-serif"><span style="font-size:13.0pt">Enjoy a wide range of opportunities to learn about what Montco offers its students\; </span></span></li>\n	<li><span style="font-family:calibri light\,sans-serif"><span style="font-size:13.0pt">Learn about our flexible schedules and programs\;</span></span></li>\n	<li><span style="font-family:calibri light\,sans-serif"><span style="font-size:13.0pt">Discover affordable ways to pay for college\;</span></span></li>\n	<li><span style="font-family:calibri light\,sans-serif"><span style="font-size:13.0pt">Ask your questions during live Q&amp\;A breakout rooms with faculty and staff\;</span></span></li>\n	<li><span style="font-family:calibri light\,sans-serif"><span style="font-size:13.0pt">and more!</span></span></li>\n</ul>\n&nbsp\;<span style="font-family:calibri light\,sans-serif"><span style="font-size:13.0pt">During the scheduled hour\, guests will have the chance to explore all that Montco has to offer and receive one-on-one consultation through our Community and Breakout Rooms. Or if you&rsquo\;re a self-taught learner\, go at your own pace and watch our?Pre-Recorded Sessions. We can&rsquo\;t wait to meet you! </span></span>
LOCATION:Montgomery County Community College
UID:e.2183.856514
SEQUENCE:3
DTSTAMP:20260425T103910Z
URL:https://business.tricountyareachamber.com/events/details/montgomery-county-community-college-spring-online-open-house-05-04-2021-856514
END:VEVENT

END:VCALENDAR
