BEGIN:VCALENDAR
VERSION:2.0
PRODID:-//ChamberMaster//Event Calendar 2.0//EN
METHOD:PUBLISH
X-PUBLISHED-TTL:P3D
REFRESH-INTERVAL:P3D
CALSCALE:GREGORIAN
BEGIN:VEVENT
DTSTART:20180301T140000Z
DTEND:20180301T200000Z
X-MICROSOFT-CDO-ALLDAYEVENT:FALSE
SUMMARY:Montgomery County Community College to host Workforce Development Open House March 1
DESCRIPTION:Learn about Montgomery County Community College's customized training courses\, Fast-Track to Employment programs and professional development opportunities at our Workforce Development Open House & Symposium on Thursday\, March 1\, from 9 a.m. to 3 p.m. Held at our new location at 95 S. Hanover Street\, Pottstown\, the free event is open to businesses and community members. \n\nAs part of the Open House\, we will be hosting free one-hour information sessions about our programs. We invite you to attend the sessions to see what we have to offer for both employers and individuals. The sessions feature a wide array of programs\, including Computer Networks and Security\, OSHA\, Building Inspection\, Personal Finance and more. To see a complete list of programs and register\, visit http://mc3.edu/WDOpenHouse.\n\nThe College's Workforce Development Division provides career-training programs for individuals\, businesses and organizations in Montgomery County and the surrounding areas. Both day and evening courses are available\, as well as online learning opportunities. We work with employers to create customized training programs\, and our Fast-Track to Employment programs provide career pathways that can be completed in less than 12 months.
X-ALT-DESC;FMTTYPE=text/html:<p><span style="font-family:times new roman\,serif\; font-size:12pt">Learn about Montgomery County Community College&rsquo\;s customized training courses\, Fast-Track to Employment programs and </span><span style="font-family:times new roman\,serif\; font-size:12pt">professional development </span><span style="font-family:times new roman\,serif\; font-size:12pt">opportunities at </span><span style="font-family:times new roman\,serif\; font-size:12pt">our Workforce Development Open House &amp\; Symposium on Thursday\, March 1\, from 9 a.m. to 3 p.m. Held at our new location at 95 S. Hanover Street\, Pottstown\, the free event is open to businesses and community members. </span></p>\n\n<p><span style="font-family:times new roman\,serif\; font-size:12pt">As part of the Open House\, we will be hosting free one-hour information sessions about our programs. We invite you to attend the sessions to see what we have to offer for both employers and individuals. The sessions feature a wide array of programs\, including Computer Networks and Security\, OSHA\, Building Inspection\, Personal Finance and more. To see a complete list of programs and register\, visit </span><a href="http://mc3.edu/WDOpenHouse"><span style="font-family:times new roman\,serif\; font-size:12pt">http://mc3.edu/WDOpenHouse</span></a><span style="font-family:times new roman\,serif\; font-size:12pt">.</span></p>\n\n<p><span style="font-family:times new roman\,serif\; font-size:12pt">The College&rsquo\;s Workforce Development Division provides career-training programs for individuals\, businesses and organizations in Montgomery County and the surrounding areas. Both day and evening courses are available\, as well as online learning opportunities. We work with employers to create </span><a href="http://mc3.edu/academics/center-for-workforce-development/customized-training"><span style="font-family:times new roman\,serif\; font-size:12pt">customized training programs</span></a><span style="font-family:times new roman\,serif\; font-size:12pt">\, and our </span><a href="http://mc3.edu/academics/center-for-workforce-development/fast-track"><span style="font-family:times new roman\,serif\; font-size:12pt">Fast-Track to Employment</span></a><span style="font-family:times new roman\,serif\; font-size:12pt"> programs provide career pathways that can be completed in less than 12 months.</span></p>\n
LOCATION:95 S. Hanover Street\, Pottstown\, PA 19464
UID:e.2183.849222
SEQUENCE:3
DTSTAMP:20260421T123934Z
URL:https://business.tricountyareachamber.com/events/details/montgomery-county-community-college-to-host-workforce-development-open-house-march-1-849222
END:VEVENT

END:VCALENDAR
