BEGIN:VCALENDAR
VERSION:2.0
PRODID:-//ChamberMaster//Event Calendar 2.0//EN
METHOD:PUBLISH
X-PUBLISHED-TTL:P3D
REFRESH-INTERVAL:P3D
CALSCALE:GREGORIAN
BEGIN:VEVENT
DTSTART;VALUE=DATE:20170512
DTEND;VALUE=DATE:20170513
TRANSP:TRANSPARENT
X-MICROSOFT-CDO-ALLDAYEVENT:TRUE
SUMMARY:Mother's Day Special Order Sale!
DESCRIPTION:MOORE'S FURNITURE MOTHER'S DAY SPECIAL ORDER SALE\n\nDozens of Styles Thousands of Fabrics at One Low Price Sofas Starting at $599   Free Local Delivery* Additional Cash Discounts**\n\nFree In-Store Design Consultation by Appointment\n\n*$499 & Up\, Clearance Excluded. Previous Sales Excluded. Can Not be Combined with any Other Special Offers.\n\nVillage of Limerick\n\n3291 West Ridge Pike\n\nPottstown\, PA 19464\n\n610-495-5253\n\nOR\n\nVillage of Eagle\n\n90 Pottstown Pike\n\nChester Springs\, PA 19425\n\n610-458-8001
X-ALT-DESC;FMTTYPE=text/html:<div style="text-align: center\;"><strong>MOORE&#39\;S FURNITURE MOTHER&#39\;S DAY SPECIAL ORDER SALE<br />\nDozens of Styles Thousands of Fabrics at One Low Price Sofas Starting at $599 &bull\; Free Local Delivery* Additional Cash Discounts**<br />\nFree In-Store Design Consultation by Appointment</strong></div>\n\n<div style="text-align: center\;"><span style="font-size:10px\;"><em>*$499 &amp\; Up\, Clearance Excluded. Previous Sales Excluded. Can Not be Combined with any Other Special Offers.</em></span></div>\n\n<div style="text-align: center\;">Village of Limerick<br />\n3291 West Ridge Pike<br />\nPottstown\, PA 19464<br />\n610-495-5253<br />\nOR<br />\nVillage of Eagle<br />\n90 Pottstown Pike<br />\nChester Springs\, PA 19425<br />\n610-458-8001</div>\n
LOCATION:Village of Limerick 3291 West Ridge Pike Pottstown\, PA 19464 610-495-5253
UID:e.2183.847668
SEQUENCE:3
DTSTAMP:20260420T200602Z
URL:https://business.tricountyareachamber.com/events/details/mother-s-day-special-order-sale-05-12-2017-847668
END:VEVENT

END:VCALENDAR
