BEGIN:VCALENDAR
VERSION:2.0
PRODID:-//ChamberMaster//Event Calendar 2.0//EN
METHOD:PUBLISH
X-PUBLISHED-TTL:P3D
REFRESH-INTERVAL:P3D
CALSCALE:GREGORIAN
BEGIN:VEVENT
DTSTART:20250510T173000Z
DTEND:20250510T190000Z
X-MICROSOFT-CDO-ALLDAYEVENT:FALSE
SUMMARY:Mother's Day Tea Party and Open House
DESCRIPTION:You're invited to enjoy a relaxing afternoon with Mom while enjoying live harp music\, assorted desserts\, tea and a family photo opportunity. Space is limited! RSVP by May 7. Please call Rose Anne or Jen at 610-385-5002.
X-ALT-DESC;FMTTYPE=text/html:You&#39\;re invited to enjoy a relaxing afternoon with Mom while enjoying live harp music\, assorted desserts\, tea and a family photo opportunity. Space is limited! RSVP by May 7. Please call Rose Anne or Jen at 610-385-5002.
LOCATION:Keystone Villa at Douglassville - Personal and Memory Care building\, 1152 Ben Franklin Highway E.\, Douglassville\, PA 19518
UID:e.2183.862035
SEQUENCE:3
DTSTAMP:20260421T113608Z
URL:https://business.tricountyareachamber.com/events/details/mother-s-day-tea-party-and-open-house-05-10-2025-862035
END:VEVENT

END:VCALENDAR
