BEGIN:VCALENDAR
VERSION:2.0
PRODID:-//ChamberMaster//Event Calendar 2.0//EN
METHOD:PUBLISH
X-PUBLISHED-TTL:P3D
REFRESH-INTERVAL:P3D
CALSCALE:GREGORIAN
BEGIN:VEVENT
DTSTART:20170830T213000Z
DTEND:20170830T230000Z
X-MICROSOFT-CDO-ALLDAYEVENT:FALSE
SUMMARY:Musikgarten
DESCRIPTION:Come Try It Out! Your Children Will Love It! Musikgarten Music Makers class for ages 4-7 includes singing\, creative as well as structured movement\, playing instruments and ensemble work\, ear training and guided listening. This developmentally sound approach to music literacy builds symbolic thinking\, concentration\, memory\, and self expression. The children start to work with written musical patterns\, too.
X-ALT-DESC;FMTTYPE=text/html:Come Try It Out! Your Children Will Love It! Musikgarten Music Makers class for ages 4-7 includes singing\, creative as well as structured movement\, playing instruments and ensemble work\, ear training and guided listening. This developmentally sound approach to music literacy builds symbolic thinking\, concentration\, memory\, and self expression. The children start to work with written musical patterns\, too.
LOCATION:Community Music School 775 W. Main St. Trappe\, PA 19426
UID:e.2183.848756
SEQUENCE:3
DTSTAMP:20260421T012102Z
URL:https://business.tricountyareachamber.com/events/details/musikgarten-08-30-2017-848756
END:VEVENT

END:VCALENDAR
