BEGIN:VCALENDAR
VERSION:2.0
PRODID:-//ChamberMaster//Event Calendar 2.0//EN
METHOD:PUBLISH
X-PUBLISHED-TTL:P3D
REFRESH-INTERVAL:P3D
CALSCALE:GREGORIAN
BEGIN:VEVENT
DTSTART:20170831T170000Z
DTEND:20170831T174500Z
X-MICROSOFT-CDO-ALLDAYEVENT:FALSE
SUMMARY:Musikgarten
DESCRIPTION:Come Try It Out! Your Children Will Love It! Celebrate your preschooler's (ages 3-5 years) growing independence and love of the outdoors with activities involving the four seasons in The Cycle of Seasons. Developed to build attention and self-expression\, activities include singing\, chanting\, moving\, focused listening\, musical games\, exploring musical instruments\, creative movement and storytelling. The Cycle of Seasons nurtures your growing child's ability to use language and participate in dramatic play within a musical context.
X-ALT-DESC;FMTTYPE=text/html:Come Try It Out! Your Children Will Love It! Celebrate your preschooler&rsquo\;s (ages 3-5 years) growing independence and love of the outdoors with activities involving the four seasons in The Cycle of Seasons. Developed to build attention and self-expression\, activities include singing\, chanting\, moving\, focused listening\, musical games\, exploring musical instruments\, creative movement and storytelling. The Cycle of Seasons nurtures your growing child&rsquo\;s ability to use language and participate in dramatic play within a musical context.
LOCATION:Community Music School 775 W. Main St. Trappe\, PA 19426
UID:e.2183.848757
SEQUENCE:3
DTSTAMP:20260421T025524Z
URL:https://business.tricountyareachamber.com/events/details/musikgarten-08-31-2017-848757
END:VEVENT

END:VCALENDAR
