BEGIN:VCALENDAR
VERSION:2.0
PRODID:-//ChamberMaster//Event Calendar 2.0//EN
METHOD:PUBLISH
X-PUBLISHED-TTL:P3D
REFRESH-INTERVAL:P3D
CALSCALE:GREGORIAN
BEGIN:VEVENT
DTSTART:20180304T160000Z
DTEND:20180304T230000Z
X-MICROSOFT-CDO-ALLDAYEVENT:FALSE
SUMMARY:NARI-BIE Pottstown Home Show
DESCRIPTION:Calling all homeowners and contractors! The 2018 Family and Home Expo\, presented by NARI-BIE\, is quickly approaching!\n\nThe show will be Friday\, March 3 from 10 AM to 9 PM and Saturday\, March 4 from 11 AM to 6 PM at the Coventry Mall in Pottstown\, PA.\n\nContractors\, register today and meet colleagues\, along with acquiring new clients.\n\nHomeowners and future homeowners\, meet area professionals from roofing to basement waterproofing and get your home in tip-top shape. We'll also be showcasing local non-profits\, so you can get all your home and family needs in one place.\n\nClick here for a registration packet: https://loom.ly/8aIoUGw\n\nClick here for the floor plan: https://loom.ly/NG5rzjg\n\nSee you in March! #RemodelingDoneRight
X-ALT-DESC;FMTTYPE=text/html:<p style="margin: 0px\; padding: 0px\; color: rgb(102\, 106\, 115)\; font-family: &quot\;Benton Sans&quot\;\, -apple-system\, BlinkMacSystemFont\, Roboto\, &quot\;Helvetica Neue&quot\;\, Helvetica\, Tahoma\, Arial\, sans-serif\; font-size: 15px\; letter-spacing: 0.5px\; background-color: rgb(255\, 255\, 255)\;">Calling all homeowners and contractors! The 2018 Family and Home Expo\, presented by NARI-BIE\, is quickly approaching!</p>\n\n<p style="margin: 0px\; padding: 10px 0px 0px\; color: rgb(102\, 106\, 115)\; font-family: &quot\;Benton Sans&quot\;\, -apple-system\, BlinkMacSystemFont\, Roboto\, &quot\;Helvetica Neue&quot\;\, Helvetica\, Tahoma\, Arial\, sans-serif\; font-size: 15px\; letter-spacing: 0.5px\; background-color: rgb(255\, 255\, 255)\;">The show will be Friday\, March 3 from 10 AM to 9 PM and Saturday\, March 4 from 11 AM to 6 PM at the Coventry Mall in Pottstown\, PA.</p>\n\n<p style="margin: 0px\; padding: 10px 0px 0px\; color: rgb(102\, 106\, 115)\; font-family: &quot\;Benton Sans&quot\;\, -apple-system\, BlinkMacSystemFont\, Roboto\, &quot\;Helvetica Neue&quot\;\, Helvetica\, Tahoma\, Arial\, sans-serif\; font-size: 15px\; letter-spacing: 0.5px\; background-color: rgb(255\, 255\, 255)\;">Contractors\, register today and meet colleagues\, along with acquiring new clients.</p>\n\n<p style="margin: 0px\; padding: 10px 0px 0px\; color: rgb(102\, 106\, 115)\; font-family: &quot\;Benton Sans&quot\;\, -apple-system\, BlinkMacSystemFont\, Roboto\, &quot\;Helvetica Neue&quot\;\, Helvetica\, Tahoma\, Arial\, sans-serif\; font-size: 15px\; letter-spacing: 0.5px\; background-color: rgb(255\, 255\, 255)\;">Homeowners and future homeowners\, meet area professionals from roofing to basement waterproofing and get your home in tip-top shape. We&#39\;ll also be showcasing local non-profits\, so you can get all your home and family needs in one place.</p>\n\n<p style="margin: 0px\; padding: 10px 0px 0px\; color: rgb(102\, 106\, 115)\; font-family: &quot\;Benton Sans&quot\;\, -apple-system\, BlinkMacSystemFont\, Roboto\, &quot\;Helvetica Neue&quot\;\, Helvetica\, Tahoma\, Arial\, sans-serif\; font-size: 15px\; letter-spacing: 0.5px\; background-color: rgb(255\, 255\, 255)\;">Click here for a registration packet:&nbsp\;<a class="highlight-facebook highlight-facebook-url" href="https://loom.ly/8aIoUGw" rel="noopener noreferrer nofollow" style="color: rgb(0\, 127\, 140)\; text-decoration-line: none\; background-color: transparent\; padding-top: 0px\;" target="_blank">https://loom.ly/8aIoUGw</a></p>\n\n<p style="margin: 0px\; padding: 10px 0px 0px\; color: rgb(102\, 106\, 115)\; font-family: &quot\;Benton Sans&quot\;\, -apple-system\, BlinkMacSystemFont\, Roboto\, &quot\;Helvetica Neue&quot\;\, Helvetica\, Tahoma\, Arial\, sans-serif\; font-size: 15px\; letter-spacing: 0.5px\; background-color: rgb(255\, 255\, 255)\;">Click here for the floor plan:&nbsp\;<a class="highlight-facebook highlight-facebook-url" href="https://loom.ly/NG5rzjg" rel="noopener noreferrer nofollow" style="color: rgb(0\, 127\, 140)\; text-decoration-line: none\; background-color: transparent\; padding-top: 0px\;" target="_blank">https://loom.ly/NG5rzjg</a></p>\n\n<p style="margin: 0px\; padding: 10px 0px 0px\; color: rgb(102\, 106\, 115)\; font-family: &quot\;Benton Sans&quot\;\, -apple-system\, BlinkMacSystemFont\, Roboto\, &quot\;Helvetica Neue&quot\;\, Helvetica\, Tahoma\, Arial\, sans-serif\; font-size: 15px\; letter-spacing: 0.5px\; background-color: rgb(255\, 255\, 255)\;">See you in March!&nbsp\;<a class="highlight-facebook highlight-facebook-hashtag" href="https://www.facebook.com/hashtag/RemodelingDoneRight" rel="noopener noreferrer nofollow" style="color: rgb(0\, 127\, 140)\; text-decoration-line: none\; background-color: transparent\; padding-top: 0px\;" target="_blank">#RemodelingDoneRight</a></p>\n
LOCATION:Coventry Mall 351 W. Schuylkill Road Pottstown\, PA 19465
UID:e.2183.849208
SEQUENCE:3
DTSTAMP:20260421T142037Z
URL:https://business.tricountyareachamber.com/events/details/nari-bie-pottstown-home-show-849208
END:VEVENT

END:VCALENDAR
