BEGIN:VCALENDAR
VERSION:2.0
PRODID:-//ChamberMaster//Event Calendar 2.0//EN
METHOD:PUBLISH
X-PUBLISHED-TTL:P3D
REFRESH-INTERVAL:P3D
CALSCALE:GREGORIAN
BEGIN:VEVENT
DTSTART:20160407T123000Z
DTEND:20160407T140000Z
X-MICROSOFT-CDO-ALLDAYEVENT:FALSE
SUMMARY:Network Smarter on LinkedIn
DESCRIPTION:As a follow-up to a previous presentation on Social Media Marketing\, Adrean Turner\, "Coach Adrean"\, Career Fulfillment Expert\, will focus on key strategies and actions to create a strong LinkedIn profile.  Discover ways to maximize business opportunities to gain more clients\, increase exposure and build influence within your industry.  A Continental Breakfast will also be provided.\n\n\n\nClick to read: How to Rock Your LinkedIn Profile Picture\n\n\n\nTCN Members - please call 610.326.2900 to register.\n\n\n\nMembers Only\; No Charge
X-ALT-DESC;FMTTYPE=text/html:<span style="font-family:times new roman\,serif\;"><span style="font-size:12.0pt\;">As a follow-up to a previous presentation on Social Media Marketing\, <strong>Adrean Turner</strong>\, &ldquo\;<strong>Coach Adrean&rdquo\;</strong>\, Career Fulfillment Expert\, will focus on key strategies and actions to create a strong <strong>LinkedIn</strong> profile.&nbsp\; Discover ways to maximize business opportunities to gain more clients\, increase exposure and build influence within your industry.&nbsp\; A Continental Breakfast will also be provided.<br />\n<br />\nClick to read: <a href="https://www.linkedin.com/pulse/how-rock-your-linkedin-profile-picture-dennis-koutoudis?trk=eml-b2_content_ecosystem_digest-recommended_articles-133-null&amp\;midToken=AQGiylnAdeog8A&amp\;fromEmail=fromEmail&amp\;ut=2T3Ep-17TwQT81">How to Rock Your LinkedIn Profile Picture</a><br />\n<br />\nTCN Members - please call 610.326.2900 to register.<br />\n<br />\n<span style="color:#FF0000\;"><span style="font-size:12px\;">Members Only\; No Charge</span></span></span></span>
LOCATION:TriCounty Area Chamber of Commerce 152 E. High St.\, Suite 360 Pottstown\, PA 19464
UID:e.2183.845558
SEQUENCE:3
DTSTAMP:20260425T154947Z
URL:https://business.tricountyareachamber.com/events/details/network-smarter-on-linkedin-04-07-2016-845558
END:VEVENT

END:VCALENDAR
