BEGIN:VCALENDAR
VERSION:2.0
PRODID:-//ChamberMaster//Event Calendar 2.0//EN
METHOD:PUBLISH
X-PUBLISHED-TTL:P3D
REFRESH-INTERVAL:P3D
CALSCALE:GREGORIAN
BEGIN:VEVENT
DTSTART:20211028T123000Z
DTEND:20211028T140000Z
X-MICROSOFT-CDO-ALLDAYEVENT:FALSE
SUMMARY:Networking Breakfast
DESCRIPTION:Join TCACC for a Member Networking Breakfast.  We're celebrating Local Chamber of Commerce Month with a networking breakfast.  Breakfast will be supplied by Brakeman's Cafe'.  \n\nThere will not be a featured speaker\; instead\, the program will offer networking among your fellow members.\n\n \n\nInterested in building new business relationships over breakfast?  Then this is your event!\n\n\n\nThis event will be following all necessary COVID-19 regulations for gatherings.
X-ALT-DESC;FMTTYPE=text/html:<title></title>\n<p align="justify"><span style="font-family:arial\;"><span style="font-size:14px\;"><strong>Join TCACC for a&nbsp\;Member Networking Breakfast.&nbsp\; </strong>We&#39\;re celebrating Local Chamber of Commerce Month with a networking breakfast.&nbsp\; Breakfast will be supplied by Brakeman&#39\;s Cafe&#39\;.<strong>&nbsp\;&nbsp\;</strong><br />\nThere will not be a featured speaker\; instead\, the program will offer&nbsp\;networking among your fellow members.<br />\n&nbsp\;</span></span><br />\n<span style="font-size:small\;"><span style="font-family:arial\;"><span style="font-size:14px\;"><strong>Interested in building new business relationships over breakfast?&nbsp\;</strong></span><em><span style="font-size:14px\;">&nbsp\;Then this is your event!</span></em></span></span><br />\n<br />\n<em><span style="font-size:12px\;"><strong style="color: rgb(255\, 0\, 0)\;">This event will be following all necessary COVID-19 regulations for gatherings.</strong></span></em></p>\n
LOCATION:New Hanover United Methodist Church 2211 Swamp Pike Gilbertsville\, PA 19525
UID:e.2183.856838
SEQUENCE:3
DTSTAMP:20260422T083635Z
URL:https://business.tricountyareachamber.com/events/details/networking-breakfast-856838
END:VEVENT

END:VCALENDAR
