BEGIN:VCALENDAR
VERSION:2.0
PRODID:-//ChamberMaster//Event Calendar 2.0//EN
METHOD:PUBLISH
X-PUBLISHED-TTL:P3D
REFRESH-INTERVAL:P3D
CALSCALE:GREGORIAN
BEGIN:VEVENT
DTSTART:20160331T123000Z
DTEND:20160331T140000Z
X-MICROSOFT-CDO-ALLDAYEVENT:FALSE
SUMMARY:Networking Workshop
DESCRIPTION:Networking not your strongest skill? \n\nWant to learn how to be a better at networking?\n\nHear secrets and tips from a few of our top Chamber networkers!\n\n\n\nPresenters include: \n\n	Terese Brittingham\, Keller Williams Real Estate\n	Joe Fava\, Clothes to Home\, LLC and TCACC Board Member\n	Josh Petrauskas\, Furniture Soup\, Inc.\n\n\n\nMembers Only!
X-ALT-DESC;FMTTYPE=text/html:Networking not your strongest skill?&nbsp\;<br />\nWant to learn how to be a better at networking?<br />\nHear secrets and tips from a few of our top Chamber networkers!<br />\n<br />\nPresenters include:&nbsp\;\n<ul>\n	<li>Terese Brittingham\, Keller Williams Real Estate</li>\n	<li>Joe Fava\, Clothes to Home\, LLC and TCACC Board Member</li>\n	<li>Josh Petrauskas\, Furniture Soup\, Inc.</li>\n</ul>\n<br />\n<span style="color:#FF0000\;"><span style="font-size:12px\;">Members Only!</span></span>
LOCATION:TriCounty Area Chamber of Commerce 152 E. High St.\, Suite 360 Pottstown\, PA 19464
UID:e.2183.845604
SEQUENCE:3
DTSTAMP:20260425T174638Z
URL:https://business.tricountyareachamber.com/events/details/networking-workshop-03-31-2016-845604
END:VEVENT

END:VCALENDAR
