BEGIN:VCALENDAR
VERSION:2.0
PRODID:-//ChamberMaster//Event Calendar 2.0//EN
METHOD:PUBLISH
X-PUBLISHED-TTL:P3D
REFRESH-INTERVAL:P3D
CALSCALE:GREGORIAN
BEGIN:VEVENT
DTSTART:20210515T130000Z
DTEND:20210515T150000Z
X-MICROSOFT-CDO-ALLDAYEVENT:FALSE
SUMMARY:New Hanover Township Fishing Derby
DESCRIPTION:New Hanover Township Fishing Derby on Saturday\, May 15\, from 9-11 a.m. The event is open to children ages 12 and younger and will take place at Hickory Park\, 2140 Big Road. The rain date will be May 16. Prizes will be awarded for the smallest\, largest\, first and most fish caught. A preregistration form including a "Wavier and Release of All Claims and Assumptions of Risk" must be signed by the parent of each child participating. It is available at this link here.
X-ALT-DESC;FMTTYPE=text/html:<span style="font-family:calibri\,sans-serif\;"><span style="font-size:11.0pt\;">New Hanover Township Fishing Derby on Saturday\, May 15\, from 9-11 a.m. The event is open to children ages 12 and younger and will take place at Hickory Park\, 2140 Big Road. The rain date will be May 16. Prizes will be awarded for the smallest\, largest\, first and most fish caught. A preregistration form including a &ldquo\;Wavier and Release of All Claims and Assumptions of Risk&rdquo\; must be signed by the parent of each child participating. <a href="http://links.pahousenews.com/q/gVU77eYHJru2snXXaRtcifjoUWrg3ACZnyFpT5jdvcrLxtNq9UDSjyHMFdVA" target="_blank">It is available at this link here</a>.&nbsp\;</span></span>
LOCATION:Hickory Park\, 2140 Big Road Gilbertsville
UID:e.2183.856599
SEQUENCE:3
DTSTAMP:20260425T103845Z
URL:https://business.tricountyareachamber.com/events/details/new-hanover-township-fishing-derby-856599
END:VEVENT

END:VCALENDAR
