BEGIN:VCALENDAR
VERSION:2.0
PRODID:-//ChamberMaster//Event Calendar 2.0//EN
METHOD:PUBLISH
X-PUBLISHED-TTL:P3D
REFRESH-INTERVAL:P3D
CALSCALE:GREGORIAN
BEGIN:VEVENT
DTSTART:20170909T140000Z
DTEND:20170909T160000Z
X-MICROSOFT-CDO-ALLDAYEVENT:FALSE
SUMMARY:New Horizons Band Informational Meeting
DESCRIPTION:Do you love music? Did you miss out on the opportunity to learn a musical instrument when you were a child? Are you black and blue from kicking yourself for quitting music lessons all those years ago? Are you looking for a fun\, creative way to spend time with other adults who enjoy music? If you answered yes to any of these questions\, Community Music School has an exciting New Horizons Band program that you are sure to love!
X-ALT-DESC;FMTTYPE=text/html:Do you love music? Did you miss out on the opportunity to learn a musical instrument when you were a child? Are you black and blue from kicking yourself for quitting music lessons all those years ago? Are you looking for a fun\, creative way to spend time with other adults who enjoy music? If you answered yes to any of these questions\, Community Music School has an exciting New Horizons Band program that you are sure to love!
LOCATION:
UID:e.2183.848759
SEQUENCE:3
DTSTAMP:20260421T025903Z
URL:https://business.tricountyareachamber.com/events/details/new-horizons-band-informational-meeting-848759
END:VEVENT

END:VCALENDAR
