BEGIN:VCALENDAR
VERSION:2.0
PRODID:-//ChamberMaster//Event Calendar 2.0//EN
METHOD:PUBLISH
X-PUBLISHED-TTL:P3D
REFRESH-INTERVAL:P3D
CALSCALE:GREGORIAN
BEGIN:VEVENT
DTSTART:20170928T153000Z
DTEND:20170928T170000Z
X-MICROSOFT-CDO-ALLDAYEVENT:FALSE
SUMMARY:New Member Luncheon
DESCRIPTION:This invitation-only event is for new members. Grow your network\, contacts\, and learn the best way to maximize your Chamber membership.  Bring business cards and any informational brochures/flyers about your company. \n\n\n\nPlease RSVP to Jennifer O'Donnell - jennifer@tricountyareachamber.com or 610.326.2900\n\n\n\nRegistration required. This event is limited to 24 participants. Lunch will be provided.\n\n\n\nMembers only!
X-ALT-DESC;FMTTYPE=text/html:<p><span style="font-size:12px\;"><span style="font-family:arial\;">This invitation-only event is for new members. Grow your network\, contacts\,&nbsp\;and learn the best way to maximize your Chamber membership.&nbsp\; Bring business cards and any informational brochures/flyers about your company.&nbsp\;<br />\n<br />\nPlease RSVP to Jennifer O&#39\;Donnell - <a href="mailto:jennifer@tricountyareachamber.com">jennifer@tricountyareachamber.com</a> or 610.326.2900</span></span><br />\n<br />\n<span style="font-size:12px\;"><span style="font-family:arial\;"><span style="line-height: 1.6\; color: rgb(0\, 0\, 0)\;">Registration required. This event is limited to 24 participants. Lunch will be provided.</span><br />\n<br />\n<span style="color:#FF0000\;"><span style="line-height: 1.6\;"><strong>Members only!</strong></span></span></span></span></p>\n
LOCATION:TriCounty Area Chamber of Commerce 152 E. High St.\, Suite 360 Pottstown\, PA 19464 There is limited parking available in the lot at the Security Trust Building at 152 High St. You must have a permit to park in a reserved space or you may be ticketed. Parking is available on High St. for up to 3 hours at no charge\, or in the Freight Station Municipal lot\, across the railroad tracks (enter off Hanover St.) for a small fee.
UID:e.2183.848752
SEQUENCE:3
DTSTAMP:20260421T025203Z
URL:https://business.tricountyareachamber.com/events/details/new-member-luncheon-848752
END:VEVENT

END:VCALENDAR
