BEGIN:VCALENDAR
VERSION:2.0
PRODID:-//ChamberMaster//Event Calendar 2.0//EN
METHOD:PUBLISH
X-PUBLISHED-TTL:P3D
REFRESH-INTERVAL:P3D
CALSCALE:GREGORIAN
BEGIN:VEVENT
DTSTART:20161101T123000Z
DTEND:20161101T140000Z
X-MICROSOFT-CDO-ALLDAYEVENT:FALSE
SUMMARY:New Overtime Rule Presentation
DESCRIPTION:Stephen Katch\, Chief Human Resources Officer\, Boyertown School District\, will present on the U.S. Department of Labor's debated overtime exemption rule changes that take effect December 1.  These law changes revise the Fair Labor Standard Act's so called white collar exemptions among other changes.
X-ALT-DESC;FMTTYPE=text/html:<strong><span style="font-family:times new roman\,serif\;"><span style="font-size:12.0pt\;">Stephen Katch\,</span></span></strong><span style="font-family:times new roman\,serif\;"><span style="font-size:12.0pt\;"> Chief Human Resources Officer\, Boyertown School District\, will present on the<strong> U.S. Department of Labor&rsquo\;s debated overtime exemption rule changes that take effect December 1</strong>.&nbsp\; These law changes revise the Fair Labor Standard Act&rsquo\;s so called white collar exemptions among other changes.</span></span>
LOCATION:TriCounty Area Chamber of Commerce 152 E. High St.\, Suite 360 Pottstown\, PA 19464
UID:e.2183.847304
SEQUENCE:3
DTSTAMP:20260422T112726Z
URL:https://business.tricountyareachamber.com/events/details/new-overtime-rule-presentation-847304
END:VEVENT

END:VCALENDAR
