BEGIN:VCALENDAR
VERSION:2.0
PRODID:-//ChamberMaster//Event Calendar 2.0//EN
METHOD:PUBLISH
X-PUBLISHED-TTL:P3D
REFRESH-INTERVAL:P3D
CALSCALE:GREGORIAN
BEGIN:VEVENT
DTSTART:20170101T160000Z
DTEND:20170101T190000Z
X-MICROSOFT-CDO-ALLDAYEVENT:FALSE
SUMMARY:New Year's Pork & Sauerkraut Dinner
DESCRIPTION:All proceeds benefit the youth mission trip in June 2017. Menu includes: Pork or hot dogs\, sauerkraut\, mashed potatoes\, green beans almandine\, applesauce\, rolls\, dessert\, and drinks
X-ALT-DESC;FMTTYPE=text/html:All proceeds benefit the youth mission trip in June 2017. Menu includes: Pork or hot dogs\, sauerkraut\, mashed potatoes\, green beans almandine\, applesauce\, rolls\, dessert\, and drinks
LOCATION:Cedarville United Methodist Church 1092 Laurelwood Rd\, Pottstown\, PA 19465
UID:e.2183.847389
SEQUENCE:3
DTSTAMP:20260420T151753Z
URL:https://business.tricountyareachamber.com/events/details/new-year-s-pork-sauerkraut-dinner-847389
END:VEVENT

END:VCALENDAR
