BEGIN:VCALENDAR
VERSION:2.0
PRODID:-//ChamberMaster//Event Calendar 2.0//EN
METHOD:PUBLISH
X-PUBLISHED-TTL:P3D
REFRESH-INTERVAL:P3D
CALSCALE:GREGORIAN
BEGIN:VEVENT
DTSTART:20171024T200000Z
DTEND:20171024T220000Z
X-MICROSOFT-CDO-ALLDAYEVENT:FALSE
SUMMARY:Night of Celebrations Mixer/Expo
DESCRIPTION:Registration for Expo Tables closed on Monday\, October 16.\n\n\n\nThis year our Annual Mixer has a new name and is in a new month - Night of Celebrations Mixer/Expo on October 24!\n\n\n\nThis mixer will offer you a unique opportunity to gain exposure for your business and make connections with other Chamber members:\n\n\n	Expo Tables - register online or contact Jennifer if you are interested in a expo table.\n\n	\n		 $50 includes: one 8-foot expo table with two chairs\n		Listing in Route 422 Business Advisor after the event \n	\n	\n	Co-Host Sponsorship Opportunity Available - $500\n	\n		one 8-foot expo tables with chairs in a prominent location at the event\n		Logo promoted on all event marketing material\, on this event webpage\, and in the Route 422 Business Advisor\n		Complimentary Newsmagazine Insert (distribution 10\,000+)\n		Acknowledged at upcoming Membership Breakfast\n	\n	\n	Business Development Opportunities available. Please contact Jennifer at 610.326.2900 or jennifer@tricountyareachamber.com.
X-ALT-DESC;FMTTYPE=text/html:<div style="text-align: center\;"><span style="font-size:12px\;"><span style="font-family:arial\;"><span style="color:#FF0000\;"><em><strong>Registration for Expo Tables closed on Monday\, October 16.</strong></em></span></span></span></div>\n\n<div><br />\n<span style="font-size:12px\;"><span style="font-family:arial\;">This year our Annual Mixer&nbsp\;has a new name and is in a new month - <strong>Night of Celebrations&nbsp\;Mixer/Expo </strong>on<strong>&nbsp\;October 24!</strong><br />\n<br />\nThis mixer will offer you a unique opportunity to gain <strong>exposure for your business</strong> and <strong>make connections with other Chamber members</strong>:</span></span></div>\n\n<ul>\n	<li><strong style="color: rgb(51\, 51\, 51)\; font-family: arial\; font-size: 12px\; line-height: 19.2px\; background-color: rgb(255\, 255\, 255)\;">Expo Tables</strong><span style="color: rgb(51\, 51\, 51)\; font-family: arial\; font-size: 12px\; line-height: 19.2px\; background-color: rgb(255\, 255\, 255)\;">&nbsp\;- register online or contact <a href="mailto:jennifer@tricountyareachamber.com">Jennifer</a></span><a href="mailto:jennifer@tricountyareachamber.com">&nbsp\;</a><span style="color: rgb(51\, 51\, 51)\; font-family: arial\; font-size: 12px\; line-height: 19.2px\; background-color: rgb(255\, 255\, 255)\;">if you are interested in a expo table.</span>\n\n	<ul>\n		<li><span style="color: rgb(51\, 51\, 51)\; font-family: arial\; font-size: 12px\; line-height: 19.2px\; background-color: rgb(255\, 255\, 255)\;">&#8203\;$50 includes: one 8-foot expo table with two chairs</span></li>\n		<li><span style="color: rgb(51\, 51\, 51)\; font-family: arial\; font-size: 12px\; line-height: 19.2px\; background-color: rgb(255\, 255\, 255)\;">Listing in&nbsp\;<em>Route 422 Business Advisor</em>&nbsp\;after the event</span><span style="color: rgb(51\, 51\, 51)\; font-family: arial\; font-size: 12px\; line-height: 19.2px\; background-color: rgb(255\, 255\, 255)\;">&nbsp\;</span></li>\n	</ul>\n	</li>\n	<li><strong>Co-Host Sponsorship</strong> Opportunity Available - $500\n	<ul>\n		<li>one 8-foot expo tables with chairs in a prominent location at the event</li>\n		<li>Logo promoted on all event marketing material\, on this event webpage\, and in the&nbsp\;<em>Route 422 Business Advisor</em></li>\n		<li>Complimentary Newsmagazine Insert (distribution 10\,000+)</li>\n		<li>Acknowledged at upcoming Membership Breakfast</li>\n	</ul>\n	</li>\n	<li><span style="color: rgb(51\, 51\, 51)\; font-family: arial\; font-size: 12px\; line-height: 19.2px\; background-color: rgb(255\, 255\, 255)\;"><span style="font-size:12px\;"><span style="font-family:arial\;"><span style="font-size:12px\;"><span style="font-family:arial\;"><strong>Business Development Opportunities&nbsp\;</strong>available. Please contact Jennifer at 610.326.2900 or <a href="mailto:jennifer@tricountyareachamber.com">jennifer@tricountyareachamber.com</a>.&nbsp\;</span></span></span></span></span></li>\n</ul>\n
LOCATION:Sunnybrook Ballroom 50 Sunnybrook Rd. Pottstown\, PA 19464
UID:e.2183.848771
SEQUENCE:3
DTSTAMP:20260421T043659Z
URL:https://business.tricountyareachamber.com/events/details/night-of-celebrations-mixer-expo-848771
END:VEVENT

END:VCALENDAR
