BEGIN:VCALENDAR
VERSION:2.0
PRODID:-//ChamberMaster//Event Calendar 2.0//EN
METHOD:PUBLISH
X-PUBLISHED-TTL:P3D
REFRESH-INTERVAL:P3D
CALSCALE:GREGORIAN
BEGIN:VEVENT
DTSTART:20170726T153000Z
DTEND:20170726T170000Z
X-MICROSOFT-CDO-ALLDAYEVENT:FALSE
SUMMARY:Non-Profit Roundtable
DESCRIPTION:This will be an informal meeting for non-profits in the tri-county region\, including the following agenda items:\n\n	Introductions and Non-Profit Information Sharing (events\, programs/services)\n	Overview of Opportunities for Your Non-Profit:\n	\n		Leadership Tri-County   (TriCounty Area Chamber of Commerce Members)\n		Amazing Raise (TriCounty Community Network Members)\n	\n	\n\nThis event is for Non-Profits only.
X-ALT-DESC;FMTTYPE=text/html:This will be an informal meeting for non-profits in the tri-county region\,&nbsp\;including the following agenda items:\n<ul>\n	<li>Introductions and Non-Profit Information Sharing (events\, programs/services)</li>\n	<li>Overview of Opportunities for Your Non-Profit:\n	<ul style="list-style-type:circle\;">\n		<li>Leadership Tri-County &ndash\; (TriCounty Area Chamber of Commerce Members)</li>\n		<li>Amazing Raise (TriCounty Community Network Members)</li>\n	</ul>\n	</li>\n</ul>\n<em><strong>This event is for Non-Profits only.&nbsp\;</strong></em>
LOCATION:Chamber Office 152 E. High St.\, Suite 360 Pottstown\, PA 19464
UID:e.2183.848730
SEQUENCE:3
DTSTAMP:20260420T233106Z
URL:https://business.tricountyareachamber.com/events/details/non-profit-roundtable-848730
END:VEVENT

END:VCALENDAR
