BEGIN:VCALENDAR
VERSION:2.0
PRODID:-//ChamberMaster//Event Calendar 2.0//EN
METHOD:PUBLISH
X-PUBLISHED-TTL:P3D
REFRESH-INTERVAL:P3D
CALSCALE:GREGORIAN
BEGIN:VEVENT
DTSTART:20180125T163000Z
DTEND:20180125T180000Z
X-MICROSOFT-CDO-ALLDAYEVENT:FALSE
SUMMARY:Non-Profit Roundtable
DESCRIPTION:This event is for Non-Profits only.\n\n\nThis will be an informal meeting for non-profits in the tri-county region\, including the following agenda items:\n\n	Lunch and networking\n	Update on Amazing Raise 2018 - Holly Parker\, TCN\n	Update on Leadership Tri-County: current class will be looking for Board placement - Jennifer O'Donnell\, TCACC\n	And a special presentation on Leadership\, specifically Executives developing Leadership in their staff - Adrean Turner\, Turner Coaching Training & Consulting\, LLC
X-ALT-DESC;FMTTYPE=text/html:<div style="text-align: center\;"><em font-size:="" style="color: rgb(51\, 51\, 51)\; font-family: sans-serif\, Arial\, Verdana\, " trebuchet=""><strong>This event is for Non-Profits only.</strong></em></div>\n<br />\nThis will be an informal meeting for non-profits in the tri-county region\,&nbsp\;including the following agenda items:\n<ul>\n	<li>Lunch and networking</li>\n	<li>Update&nbsp\;on Amazing Raise 2018 - <em>Holly Parker\, TCN</em></li>\n	<li>Update on Leadership Tri-County: current class will be looking for Board placement - <em>Jennifer O&#39\;Donnell\, TCACC</em></li>\n	<li>And a special presentation on Leadership\, specifically Executives developing Leadership in their staff - <em>Adrean Turner\, Turner Coaching Training&nbsp\;&amp\; Consulting\, LLC</em></li>\n</ul>\n
LOCATION:Chamber Office 152 E. High St.\, Suite 360 Pottstown\, PA 19464
UID:e.2183.849153
SEQUENCE:3
DTSTAMP:20260421T094013Z
URL:https://business.tricountyareachamber.com/events/details/non-profit-roundtable-849153
END:VEVENT

END:VCALENDAR
