BEGIN:VCALENDAR
VERSION:2.0
PRODID:-//ChamberMaster//Event Calendar 2.0//EN
METHOD:PUBLISH
X-PUBLISHED-TTL:P3D
REFRESH-INTERVAL:P3D
CALSCALE:GREGORIAN
BEGIN:VEVENT
DTSTART:20161110T120000Z
DTEND:20161110T140000Z
X-MICROSOFT-CDO-ALLDAYEVENT:FALSE
SUMMARY:November Membership Breakfast
DESCRIPTION:Dr. Tony Campolo\, Professor of Sociology at Eastern University\, will provide an Inspirational message on "Finding Balance in an Unbalanced World". Many have spent time and energy trying to figure out how to strike a balance. We need to spend time on our everyday responsibilities and not neglect our deep emotional\, relational\, and spiritual needs. Join us for easy to understand illustrations and explanations on how you can try to meet that need.  \n\nRegistration required!
X-ALT-DESC;FMTTYPE=text/html:<strong>Dr. Tony Campolo</strong>\, Professor of Sociology at Eastern University\, will provide an <strong>Inspirational</strong> message on <strong>&quot\;Finding Balance in an Unbalanced World&quot\;</strong>. Many have spent time and energy trying to figure out how to strike a balance. We need&nbsp\;to spend time on our everyday responsibilities and not neglect our deep emotional\, relational\, and spiritual needs. Join us for easy to understand illustrations and explanations on how you can try to meet that need.&nbsp\;&nbsp\;\n\n<p><span style="font-size: 13px\;"><span style="font-family: arial\; font-size: 12px\;"><span style="color: #ff0000\;"><strong>Registration required!</strong></span></span></span><br />\n&nbsp\;</p>\n
LOCATION:Brookside Country Club Prospect and Adams Sts. Pottstown\, PA 19464
UID:e.2183.846112
SEQUENCE:3
DTSTAMP:20260422T112717Z
URL:https://business.tricountyareachamber.com/events/details/november-membership-breakfast-846112
END:VEVENT

END:VCALENDAR
