BEGIN:VCALENDAR
VERSION:2.0
PRODID:-//ChamberMaster//Event Calendar 2.0//EN
METHOD:PUBLISH
X-PUBLISHED-TTL:P3D
REFRESH-INTERVAL:P3D
CALSCALE:GREGORIAN
BEGIN:VEVENT
DTSTART:20170605T160000Z
DTEND:20170605T210000Z
X-MICROSOFT-CDO-ALLDAYEVENT:FALSE
SUMMARY:Olivet Golf Invitational
DESCRIPTION:2017 Olivet Cocktail Party & Invitational Golf Tournament \n\nMonday\, June 5th Olivet Invitational Golf Tournament   Berkshire Country Club & Reading Country Club\n\nCocktail Party  Monday\, June 5Th\, 2017 Time- 5:30 PM   First Energy Stadium\n\nCocktails\, Hors d'oeuvres\, Contests\, Competitions\, Live & Silent Auction.\n\nEnjoy a complete program of special events\, 18 holes of golf (including cart) and lunch.\n\n\n	Putting challenge on the practice green\n	Two longest drive contests\n	Closest to the pin challenge\n	Hole-in-One contest for a brand new car (Berkshire Country Club only)\n\n\nThis year's event will have two options\, the Berkshire Country Club and Reading Country Club on Monday\, June 5th. This golf tournament has become one of the most popular charitable events in Berks County.\n\nThere will be a Cocktail Party following the tournament at the First Energy Stadium\, starting at 5:30 pm\, which includes music\, cocktails\, Hors d'oeuvres\, Contests\, Competitions\, Live & Silent Auction and this year the Kiss A Pig Finale\n\nAll proceeds from the Olivet Golf Tournament Invitational and Cocktail Party fund youth programming in our Clubs.\n\nGolf attire is required. Collared shirts and slacks. No steel spikes are allowed on the course\n\nPlease CLICK HERE for a PDF of our sponsorship opportunities for both the golf tournament and cocktail party.
X-ALT-DESC;FMTTYPE=text/html:<p style="text-align:center"><strong>2017 Olivet Cocktail Party &amp\; Invitational Golf Tournament&nbsp\;</strong></p>\n\n<p>Monday\, June 5th Olivet Invitational Golf Tournament &ndash\; Berkshire Country Club &amp\; Reading Country Club</p>\n\n<p>Cocktail Party&ndash\; Monday\, June 5<span style="font-size:10.5px">Th</span>\, 2017 Time- 5:30 PM &ndash\; First Energy Stadium</p>\n\n<p>Cocktails\, Hors d&rsquo\;oeuvres\, Contests\, Competitions\, Live &amp\; Silent Auction.</p>\n\n<p>Enjoy a complete program of special events\, 18 holes of golf (including cart) and lunch.</p>\n\n<ul>\n	<li>Putting challenge on the practice green</li>\n	<li>Two longest drive contests</li>\n	<li>Closest to the pin challenge</li>\n	<li>Hole-in-One contest for a brand new car (Berkshire Country Club only)</li>\n</ul>\n\n<p>This year&rsquo\;s event will have two options\, the Berkshire Country Club and Reading Country Club on<strong>&nbsp\;Monday\, June 5th</strong>. This golf tournament has become one of the most popular charitable events in Berks County.</p>\n\n<p>There will be a Cocktail Party following&nbsp\;the tournament at the First Energy Stadium\, starting at 5:30 pm\, which includes music\, cocktails\, Hors d&rsquo\;oeuvres\, Contests\, Competitions\, Live &amp\; Silent Auction and this year the Kiss A Pig Finale</p>\n\n<p>All proceeds from the Olivet Golf Tournament Invitational and Cocktail Party fund youth programming in our Clubs.</p>\n\n<p><em>Golf attire is required. Collared shirts and slacks. No steel spikes are allowed on the course</em></p>\n\n<p>Please&nbsp\;<strong><a href="https://www.olivetbgc.org/wp-content/uploads/2017/03/2017-Golf-Sponsorships-updated.pdf" style="background: transparent\; transition-duration: 0.3s\; text-decoration: none\; color: rgb(22\, 129\, 197)\;">CLICK HERE</a></strong>&nbsp\;for a PDF of our sponsorship opportunities for both the golf tournament and cocktail party.</p>\n
LOCATION:Golfers are given the option of two different courses Berkshire Country Club or Reading Country Club
UID:e.2183.847626
SEQUENCE:3
DTSTAMP:20260420T213314Z
URL:https://business.tricountyareachamber.com/events/details/olivet-golf-invitational-847626
END:VEVENT

END:VCALENDAR
