BEGIN:VCALENDAR
VERSION:2.0
PRODID:-//ChamberMaster//Event Calendar 2.0//EN
METHOD:PUBLISH
X-PUBLISHED-TTL:P3D
REFRESH-INTERVAL:P3D
CALSCALE:GREGORIAN
BEGIN:VEVENT
DTSTART:20210508T120000Z
DTEND:20210508T160000Z
X-MICROSOFT-CDO-ALLDAYEVENT:FALSE
SUMMARY:ONE DAY ONLY-CHARITY SALE!
DESCRIPTION:Join us for a socially distanced yard sale with some amazing finds! Anyone that knows our broker knows that this place is a treasure trove! We are clearing out our staging collection\, sifting through every desk\, closet\, and cabinet in the building\, and thinning out our personal possessions as well! We are gathering quality donations from clients and friends\, and have scored some pretty cool things like TV's\, vintage records\, furniture\, and more!\n\nAll monies raised will be donated to the Rebecca Melvin Foundation.\n\nThe goal of the Foundation is to provide relief from the emotional\, physical\, and financial impact to children and their families that result from fighting chronic disabilities and illnesses.\n\nWe are accepting sellable donations as well as cash (no clothing or perishables). Look forward to seeing you on 5/8!\n\n\n\nTo learn more about the foundation\, check out the website!\n\nhttps://rebeccamelvinfoundation.org/
X-ALT-DESC;FMTTYPE=text/html:<span style="color: rgb(66\, 66\, 66)\; font-family: Arial\, Helvetica\, sans-serif\; font-size: 12px\;">Join us for a socially distanced yard sale with some amazing finds! Anyone that knows our broker knows that this place is a treasure trove! We are clearing out our staging collection\, sifting through every desk\, closet\, and cabinet in the building\, and thinning out our personal possessions as well! We are gathering quality donations from clients and friends\, and have scored some pretty cool things like TV&rsquo\;s\, vintage records\, furniture\, and more!</span><br style="outline: none\; margin: 0px\; padding: 0px\; color: rgb(66\, 66\, 66)\; font-family: Arial\, Helvetica\, sans-serif\; font-size: 12px\;" />\n<span style="color: rgb(66\, 66\, 66)\; font-family: Arial\, Helvetica\, sans-serif\; font-size: 12px\;">All monies raised will be donated to the Rebecca Melvin Foundation.</span><br style="outline: none\; margin: 0px\; padding: 0px\; color: rgb(66\, 66\, 66)\; font-family: Arial\, Helvetica\, sans-serif\; font-size: 12px\;" />\n<span style="color: rgb(66\, 66\, 66)\; font-family: Arial\, Helvetica\, sans-serif\; font-size: 12px\;">The goal of the Foundation is to provide relief from the emotional\, physical\, and financial impact to children and their families that result from fighting chronic disabilities and illnesses.</span><br style="outline: none\; margin: 0px\; padding: 0px\; color: rgb(66\, 66\, 66)\; font-family: Arial\, Helvetica\, sans-serif\; font-size: 12px\;" />\n<span style="color: rgb(66\, 66\, 66)\; font-family: Arial\, Helvetica\, sans-serif\; font-size: 12px\;">We are accepting sellable donations as well as cash (no clothing or perishables). Look forward to seeing you on 5/8!</span><br style="outline: none\; margin: 0px\; padding: 0px\; color: rgb(66\, 66\, 66)\; font-family: Arial\, Helvetica\, sans-serif\; font-size: 12px\;" />\n<br style="outline: none\; margin: 0px\; padding: 0px\; color: rgb(66\, 66\, 66)\; font-family: Arial\, Helvetica\, sans-serif\; font-size: 12px\;" />\n<span style="color: rgb(66\, 66\, 66)\; font-family: Arial\, Helvetica\, sans-serif\; font-size: 12px\;">To learn more about the foundation\, check out the website!</span><br style="outline: none\; margin: 0px\; padding: 0px\; color: rgb(66\, 66\, 66)\; font-family: Arial\, Helvetica\, sans-serif\; font-size: 12px\;" />\n<span style="color: rgb(66\, 66\, 66)\; font-family: Arial\, Helvetica\, sans-serif\; font-size: 12px\;">https://rebeccamelvinfoundation.org/</span>
LOCATION:2089 Pottstown Pike Pottstown\, PA 19465
UID:e.2183.856608
SEQUENCE:3
DTSTAMP:20260425T103803Z
URL:https://business.tricountyareachamber.com/events/details/one-day-only-charity-sale-856608
END:VEVENT

END:VCALENDAR
