BEGIN:VCALENDAR
VERSION:2.0
PRODID:-//ChamberMaster//Event Calendar 2.0//EN
METHOD:PUBLISH
X-PUBLISHED-TTL:P3D
REFRESH-INTERVAL:P3D
CALSCALE:GREGORIAN
BEGIN:VEVENT
DTSTART:20151022T120000Z
DTEND:20151022T140000Z
X-MICROSOFT-CDO-ALLDAYEVENT:FALSE
SUMMARY:Open House
DESCRIPTION:Stop in to learn more about our Chamber\, ask questions\, or learn how to maximize your benefits! Informal\, free\, and open to all prospects and Members. Feel free to stop by anytime! Registration not required.
X-ALT-DESC;FMTTYPE=text/html:<br />\n<span style="font-size:small\;"><span style="font-family:arial\;"><span style="font-size:10pt\;">Stop in to learn more about our Chamber\, ask questions\, or learn how to maximize your benefits!&nbsp\;</span></span></span><span style="font-size:small\;"><span style="font-family:arial\;"><span style="font-size:10pt\;">Informal\, free\, and open to all prospects and Members. Feel free to stop by anytime! Registration not required.</span></span></span><br />\n&nbsp\;
LOCATION:TriCounty Area Chamber of Commerce 152 E. High St.\, Suite 360 Pottstown\, PA 19464 There is limited parking available in the lot at the Security Trust Building at 152 High St. You must have a permit to park in a reserved space or you may be ticketed. Parking is available on High St. for up to 3 hours at no charge\, or in the Freight Station Municipal lot\, across the railroad tracks (enter off Hanover St.) for 10 per hour.
UID:e.2183.845103
SEQUENCE:3
DTSTAMP:20260426T011921Z
URL:https://business.tricountyareachamber.com/events/details/open-house-10-22-2015-845103
END:VEVENT

END:VCALENDAR
