BEGIN:VCALENDAR
VERSION:2.0
PRODID:-//ChamberMaster//Event Calendar 2.0//EN
METHOD:PUBLISH
X-PUBLISHED-TTL:P3D
REFRESH-INTERVAL:P3D
CALSCALE:GREGORIAN
BEGIN:VEVENT
DTSTART:20170709T170000Z
DTEND:20170709T210000Z
X-MICROSOFT-CDO-ALLDAYEVENT:FALSE
SUMMARY:Open House
DESCRIPTION:Open House to showcase newest instrument for Grace Evangelical Lutheran Church (located in Astoria\, New York). Light refreshments will be provided.\n\n\n\nStop in and check out all the Patrick J. Murphy & Associates\, Inc. has to offer! More information can be found on their website by clicking here.
X-ALT-DESC;FMTTYPE=text/html:Open House to showcase newest instrument for Grace Evangelical Lutheran Church (located in Astoria\, New York). Light refreshments will be provided.<br />\n<br />\nStop in and check out all the Patrick J. Murphy &amp\; Associates\, Inc. has to offer! More information can be found on their website by <a href="http://www.pjmorgans.com/">clicking here</a>.&nbsp\;
LOCATION:Patrick J. Murphy & Associates\, Inc. 300 Old Reading Pike Suite 1-D Stowe\, PA 19464
UID:e.2183.847713
SEQUENCE:3
DTSTAMP:20260421T010338Z
URL:https://business.tricountyareachamber.com/events/details/open-house-847713
END:VEVENT

END:VCALENDAR
