BEGIN:VCALENDAR
VERSION:2.0
PRODID:-//ChamberMaster//Event Calendar 2.0//EN
METHOD:PUBLISH
X-PUBLISHED-TTL:P3D
REFRESH-INTERVAL:P3D
CALSCALE:GREGORIAN
BEGIN:VEVENT
DTSTART:20171012T120000Z
DTEND:20171012T140000Z
X-MICROSOFT-CDO-ALLDAYEVENT:FALSE
SUMMARY:Open House and Coffee Hour
DESCRIPTION:YOU ARE INVITED  \n \n\nTO OPEN HOUSE AND COFFEE HOUR\n\nAT THE SALVATION ARMY OF POTTSTOWN\n \n\nWe are opening the classroom and headquarters of Pottstown Works and introducing new commanding officers of the local citadel. \n\n \n\nJoin us 8 to 10 a.m. on Thursday\, October 12\, to welcome\n\nCaptains Jeny and Lawrence Shurtleff.\n\n \n\nAnd\, enjoy an open house and tour of Pottstown Works\, the job readiness program achieving individuals' and business success.\n\n \n\nCoffee\, tea and continental breakfast will be provided.\n\n \n\nPlease RSVP with number attending to nancy.march@use.salvationarmy.org.
X-ALT-DESC;FMTTYPE=text/html:<div style="text-align: center\;"><strong><span style="font-size:24.0pt\;">YOU ARE INVITED &hellip\;</span></strong></div>\n&nbsp\;\n\n<div style="text-align: center\;"><strong><span style="font-size:16.0pt\;">TO OPEN HOUSE AND COFFEE HOUR<br />\nAT THE SALVATION ARMY OF POTTSTOWN</span></strong></div>\n&nbsp\;<br />\n<strong><span style="font-size:16.0pt\;">We are opening the classroom and headquarters of Pottstown Works and introducing new commanding officers of the local citadel. </span></strong><br />\n&nbsp\;<br />\n<strong><span style="font-size:16.0pt\;">Join us 8 to 10 a.m. on Thursday\, October 12\, to welcome<br />\nCaptains Jeny and Lawrence Shurtleff.</span></strong><br />\n&nbsp\;<br />\n<strong><span style="font-size:16.0pt\;">And\, enjoy an open house and tour of Pottstown Works\, the job readiness program achieving individuals&rsquo\; and business success.</span></strong><br />\n&nbsp\;<br />\n<strong><span style="font-size:16.0pt\;">Coffee\, tea and continental breakfast will be provided.</span></strong><br />\n&nbsp\;<br />\n<strong><span style="font-size:16.0pt\;">Please RSVP with number attending to <a href="mailto:nancy.march@use.salvationarmy.org">nancy.march@use.salvationarmy.org</a>.</span></strong>
LOCATION:Salvation Army of Pottstown 137 King Street Pottstown\, PA 19464
UID:e.2183.848785
SEQUENCE:3
DTSTAMP:20260421T042537Z
URL:https://business.tricountyareachamber.com/events/details/open-house-and-coffee-hour-848785
END:VEVENT

END:VCALENDAR
