BEGIN:VCALENDAR
VERSION:2.0
PRODID:-//ChamberMaster//Event Calendar 2.0//EN
METHOD:PUBLISH
X-PUBLISHED-TTL:P3D
REFRESH-INTERVAL:P3D
CALSCALE:GREGORIAN
BEGIN:VEVENT
DTSTART:20211102T200000Z
DTEND:20211102T220000Z
X-MICROSOFT-CDO-ALLDAYEVENT:FALSE
SUMMARY:Open House at Keystone Villa at Douglassville
DESCRIPTION:Imagine life at its best! Join the award-winning Keystone Villa at Douglassville during our Open House for Personal Care and Memory Care on Tuesday\, Nov. 2\, from 4-6 p.m. at 1152 Ben Franklin Highway E.\, in Douglassville. Tour a model apartment\, safely socialize with residents and learn more about our compassionate caregivers\, personal care services\, and memory care support program to help your loved one to live a healthy\, active and fulfilling life. Space is limited to ensure social distancing\; masks are also required. Following our open house is a special dementia care seminar called "Joining Their Journey\," beginning at 6:30 p.m.\, which will help you understand behavior changes in dementia. To secure your spot\, please call Sue O. at 610-385-5002.
X-ALT-DESC;FMTTYPE=text/html:Imagine life at its best! Join the award-winning Keystone Villa at Douglassville during our Open House for Personal Care and Memory Care on Tuesday\, Nov. 2\, from 4-6 p.m. at 1152 Ben Franklin Highway E.\, in Douglassville. Tour a model apartment\, safely socialize with residents and learn more about our compassionate caregivers\, personal care services\, and memory care support program to help your loved one to live a healthy\, active and fulfilling life. Space is limited to ensure social distancing\; masks are also required. Following our open house is a special dementia care seminar called &ldquo\;Joining Their Journey\,&rdquo\; beginning at 6:30 p.m.\, which will help you understand behavior changes in dementia. To secure your spot\, please call Sue O. at 610-385-5002.
LOCATION:Keystone Villa at Douglassville 1152 Ben Franklin Hwy. East Douglassville\, PA
UID:e.2183.856852
SEQUENCE:3
DTSTAMP:20260423T054708Z
URL:https://business.tricountyareachamber.com/events/details/open-house-at-keystone-villa-at-douglassville-11-02-2021-856852
END:VEVENT

END:VCALENDAR
