BEGIN:VCALENDAR
VERSION:2.0
PRODID:-//ChamberMaster//Event Calendar 2.0//EN
METHOD:PUBLISH
X-PUBLISHED-TTL:P3D
REFRESH-INTERVAL:P3D
CALSCALE:GREGORIAN
BEGIN:VEVENT
DTSTART:20170106T133000Z
DTEND:20170106T150000Z
X-MICROSOFT-CDO-ALLDAYEVENT:FALSE
SUMMARY:Open House for Steve Bamford
DESCRIPTION:Join us for an Open House at the Chamber Office\, in recognition of Steve Bamford's contribution to PAID\, Inc. and the Borough of Pottstown\, over the last 5 years - visit with Steve\, thank him for his assistance\, and wish him well with his new position in Allentown.  \n\n \n\nPlease register so we have an appropriate count for the number of people we can anticipate attending however you can stop at any time between 8:30 and 10 AM.  We will have the coffee and a continental breakfast ready!
X-ALT-DESC;FMTTYPE=text/html:<strong>Join us for an Open House at the Chamber Office\, in recognition of Steve Bamford&rsquo\;s contribution to PAID\, Inc. and the Borough of Pottstown\, over the last 5 years - v</strong><strong>isit with Steve\, thank him for his assistance\, and wish him well with his new position in Allentown.&nbsp\; </strong><br />\n&nbsp\;<br />\n<strong>Please register so we have an appropriate count for the number of people we can anticipate attending however you can stop at any time between 8:30 and 10 AM.&nbsp\; We will have the coffee and a continental breakfast ready!</strong>
LOCATION:Chamber Office 152 E. High St.\, Suite 360 Pottstown\, PA 19464
UID:e.2183.847394
SEQUENCE:3
DTSTAMP:20260420T132418Z
URL:https://business.tricountyareachamber.com/events/details/open-house-for-steve-bamford-847394
END:VEVENT

END:VCALENDAR
