BEGIN:VCALENDAR
VERSION:2.0
PRODID:-//ChamberMaster//Event Calendar 2.0//EN
METHOD:PUBLISH
X-PUBLISHED-TTL:P3D
REFRESH-INTERVAL:P3D
CALSCALE:GREGORIAN
BEGIN:VEVENT
DTSTART:20250612T220000Z
DTEND:20250612T233000Z
X-MICROSOFT-CDO-ALLDAYEVENT:FALSE
SUMMARY:Open House - Pretzels\, Root Beer and Music!
DESCRIPTION:Spend some time with Dad while enjoying complimentary soft pretzels\, root beer and great entertainment with Massimo Brutto. While you are here\, tour our personal care community and see all we offer!
X-ALT-DESC;FMTTYPE=text/html:Spend some time with Dad while enjoying complimentary soft pretzels\, root beer and great entertainment with Massimo Brutto. While you are here\, tour our personal care community and see all we offer!
LOCATION:Keystone Villa at Douglassville\, Personal and Memory Care building\, 1152 Ben Franklin Hwy. E.\, Douglassville\, PA 19518
UID:e.2183.862934
SEQUENCE:3
DTSTAMP:20260421T132820Z
URL:https://business.tricountyareachamber.com/events/details/open-house-pretzels-root-beer-and-music-862934
END:VEVENT

END:VCALENDAR
