BEGIN:VCALENDAR
VERSION:2.0
PRODID:-//ChamberMaster//Event Calendar 2.0//EN
METHOD:PUBLISH
X-PUBLISHED-TTL:P3D
REFRESH-INTERVAL:P3D
CALSCALE:GREGORIAN
BEGIN:VEVENT
DTSTART:20200610T133000Z
DTEND:20200610T143000Z
X-MICROSOFT-CDO-ALLDAYEVENT:FALSE
SUMMARY:PA Chamber - Virtual Update
DESCRIPTION:Alex Halper\, Director- Government Affairs\, PA Chamber of Business and Industry\; "PA Chamber Update and information on Bringing PA Back initiative"
X-ALT-DESC;FMTTYPE=text/html:Alex Halper\, Director- Government Affairs\, PA Chamber of Business and Industry\; &ldquo\;PA Chamber Update and information on Bringing PA Back initiative&rdquo\;
LOCATION:Virtual Event Zoom participation instructions will be sent to those registered prior to the event.
UID:e.2183.856297
SEQUENCE:3
DTSTAMP:20260422T080806Z
URL:https://business.tricountyareachamber.com/events/details/pa-chamber-virtual-update-856297
END:VEVENT

END:VCALENDAR
