BEGIN:VCALENDAR
VERSION:2.0
PRODID:-//ChamberMaster//Event Calendar 2.0//EN
METHOD:PUBLISH
X-PUBLISHED-TTL:P3D
REFRESH-INTERVAL:P3D
CALSCALE:GREGORIAN
BEGIN:VEVENT
DTSTART:20251113T163000Z
DTEND:20251113T190000Z
X-MICROSOFT-CDO-ALLDAYEVENT:FALSE
SUMMARY:PAED's 60th Anniversary - Pottstown Progress
DESCRIPTION:Join Pottstown Area Economic Development (PAED) organization for a special 60th anniversary luncheon highlighting six decades of economic growth\, partnerships\, and revitalization. This milestone event honors the progress made in Pottstown and looks ahead to a vibrant and inclusive future.\n\n\n\nAlong with the celebration of PAED's 60th\, awards will be given to several businesses/organizations. DANA Inc\, calling Pottstown home for over 100 years will receive the Legacy Award\; Pottstown's Go Fourth Festival led by Amy Wolf and Amy Frances will receive the Connector Award\; The Small Business Award will be awarded to Once Upon A Time Consignment Boutique\; and Craig Cigas will receive the Board of Directors Award.    \n\n \nRegister at: https://www.zeffy.com/ticketing/paeds-60th-anniversary-pottstown-progress\n\n\nWhy Sponsor?\n\nYour sponsorship supports Pottstown's revitalization efforts in the mission to create a vibrant\, thriving\, resilient business community.\n\nThis is your chance to connect with one another\, while demonstrating your commitment to economic development.
X-ALT-DESC;FMTTYPE=text/html:Join Pottstown Area Economic Development (PAED) organization for a special 60th anniversary luncheon highlighting six decades of economic growth\, partnerships\, and revitalization. This milestone event honors the progress made in Pottstown and looks ahead to a vibrant and inclusive future.<br />\n<br />\nAlong with the celebration of PAED&rsquo\;s 60th\, awards will be given to several businesses/organizations. <strong>DANA Inc</strong>\, calling Pottstown home for over 100 years will receive the Legacy Award\; <strong>Pottstown&rsquo\;s Go Fourth Festival led by Amy Wolf and Amy Frances </strong>will receive the Connector Award\; The Small Business Award will be awarded to <strong>Once Upon A Time Consignment Boutique</strong>\; and <strong>Craig Cigas</strong> will receive the Board of Directors Award.&nbsp\; &nbsp\;&nbsp\;<br />\n&nbsp\;\n<div style="text-align:center"><u><strong><span style="font-size:16px">Register at:&nbsp\;<a href="https://www.zeffy.com/ticketing/paeds-60th-anniversary-pottstown-progress">https://www.zeffy.com/ticketing/paeds-60th-anniversary-pottstown-progress</a></span></strong></u></div>\n<br />\n<strong>Why Sponsor?</strong><br />\nYour sponsorship supports Pottstown&rsquo\;s revitalization efforts in the mission to create a vibrant\, thriving\, resilient business community.<br />\nThis is your chance to connect with one another\, while demonstrating your commitment to economic development.
LOCATION:Brookside Country Club 850 North Adams Street Pottstown\, PA 19464
UID:e.2183.863396
SEQUENCE:3
DTSTAMP:20260421T203154Z
URL:https://business.tricountyareachamber.com/events/details/paed-s-60th-anniversary-pottstown-progress-863396
END:VEVENT

END:VCALENDAR
