BEGIN:VCALENDAR
VERSION:2.0
PRODID:-//ChamberMaster//Event Calendar 2.0//EN
METHOD:PUBLISH
X-PUBLISHED-TTL:P3D
REFRESH-INTERVAL:P3D
CALSCALE:GREGORIAN
BEGIN:VEVENT
DTSTART:20210517T143000Z
DTEND:20210517T223000Z
X-MICROSOFT-CDO-ALLDAYEVENT:FALSE
SUMMARY:PAL Golf Outing
DESCRIPTION:Scramble Format with a Shotgun start at 12 PM\n\nFor registration form and more information\, please contact Kitty Papp at kitpapp@gmail.com.\n\n\n\nMail Registration & Hole Sponsorship by 4/26/2021 to PAL - 146 King Street\, Pottstown\, PA 19464 or email pottstownpaloffice@gmail.com.\n\n\n\nLite Lunch - Hotdogs\, Chips\, Pickles\, Condiments\n\nDinner - Salad\, London Broil\, Chicken Piccata\, Sies\n\nBeverages - Beer\, Ice-Tea\, Lemonade
X-ALT-DESC;FMTTYPE=text/html:Scramble Format with a Shotgun start at 12 PM<br />\nFor registration form and more information\, please contact Kitty Papp at <a href="http://kitpapp@gmail.com">kitpapp@gmail.com</a>.<br />\n<br />\nMail Registration &amp\; Hole Sponsorship by 4/26/2021 to PAL - 146 King Street\, Pottstown\, PA 19464 or email <a href="http://pottstownpaloffice@gmail.com">pottstownpaloffice@gmail.com</a>.<br />\n<br />\nLite Lunch - Hotdogs\, Chips\, Pickles\, Condiments<br />\nDinner - Salad\, London Broil\, Chicken Piccata\, Sies<br />\nBeverages - Beer\, Ice-Tea\, Lemonade
LOCATION:Brookside Country Club 850 Adams Street Pottstown\, PA 19464
UID:e.2183.856552
SEQUENCE:3
DTSTAMP:20260425T103241Z
URL:https://business.tricountyareachamber.com/events/details/pal-golf-outing-856552
END:VEVENT

END:VCALENDAR
