BEGIN:VCALENDAR
VERSION:2.0
PRODID:-//ChamberMaster//Event Calendar 2.0//EN
METHOD:PUBLISH
X-PUBLISHED-TTL:P3D
REFRESH-INTERVAL:P3D
CALSCALE:GREGORIAN
BEGIN:VEVENT
DTSTART:20210501T130000Z
DTEND:20210501T160000Z
X-MICROSOFT-CDO-ALLDAYEVENT:FALSE
SUMMARY:Paper Shredding Event
DESCRIPTION:Representive Pennycuick is hosting a free contactless paper shredding event on May 1\, from 9 a.m. to noon\, (or until the truck is full) at Oak Ridge Elementary School\, 465 Moyer Road in Harleysville.\n\n\n\nThe event\, which will feature an on-site industrial paper shredder from Wiggins Shredding\, will provide the opportunity for households to shred up to two packing boxes of materials. Cardboard boxes and plastic bags will be returned\; paper bags can be shredded along with the other material.\n\n\n\nThis is a great opportunity for residents to get rid of large amounts of unwanted documents CONTAINING PERSONAL INFORMATION that could be used to steal their identity or cause other harm. Magazines\, newspapers and other similar materials can and should be recycled at the curb.\n\n\n\nResidents will not need to get out of their vehicle\; simply pull up and we will take care of the rest. The event will be held rain or shine. Any questions\, please contact the office at 610-323-3299 in Gilbertsville or 215-256-6030 in Harleysville.
X-ALT-DESC;FMTTYPE=text/html:<span style="font-family:calibri\,sans-serif\;"><span style="font-size:11.0pt\;">Representive Pennycuick is hosting a free contactless paper shredding event on May 1\, from 9 a.m. to noon\, (or until the truck is full) at Oak Ridge Elementary School\, 465 Moyer Road in Harleysville.<br />\n<br />\nThe event\, which will feature an on-site industrial paper shredder from Wiggins Shredding\, will provide the opportunity for households to shred up to two packing boxes of materials. Cardboard boxes and plastic bags will be returned\; paper bags can be shredded along with the other material.<br />\n<br />\nThis is a great opportunity for residents to get rid of large amounts of unwanted documents <strong>CONTAINING PERSONAL INFORMATION </strong>that could be used to steal their identity or cause other harm. Magazines\, newspapers and other similar materials can and should be recycled at the curb.<br />\n<br />\nResidents will not need to get out of their vehicle\; simply pull up and we will take care of the rest. The event will be held rain or shine. Any questions\, please contact the office at&nbsp\;</span></span><span style="color: rgb(51\, 51\, 51)\; font-family: calibri\, sans-serif\; font-size: 14.6667px\; background-color: rgb(255\, 255\, 255)\;">610-323-3299</span><span style="font-family:calibri\,sans-serif\;"><span style="font-size:11.0pt\;"> in Gilbertsville or 215-256-6030 in Harleysville.&nbsp\;</span></span>
LOCATION:Oak Ridge Elementary School\, 465 Moyer Road in Harleysville
UID:e.2183.856598
SEQUENCE:3
DTSTAMP:20260425T103416Z
URL:https://business.tricountyareachamber.com/events/details/paper-shredding-event-856598
END:VEVENT

END:VCALENDAR
