BEGIN:VCALENDAR
VERSION:2.0
PRODID:-//ChamberMaster//Event Calendar 2.0//EN
METHOD:PUBLISH
X-PUBLISHED-TTL:P3D
REFRESH-INTERVAL:P3D
CALSCALE:GREGORIAN
BEGIN:VEVENT
DTSTART:20170331T210000Z
DTEND:20170401T000000Z
X-MICROSOFT-CDO-ALLDAYEVENT:FALSE
SUMMARY:Pasta Dinner Jazz OJR HS
DESCRIPTION:Come enjoy a wonderful pasta dinner/dessert and jazz band entertainment to support the Owen J Roberts HS Marching Band & Color Guard. Tickets at the door\; Silent Auction /Baskets/Raffles
X-ALT-DESC;FMTTYPE=text/html:Come enjoy a wonderful pasta dinner/dessert and jazz band entertainment to support the Owen J Roberts HS Marching Band &amp\; Color Guard. Tickets at the door\; Silent Auction /Baskets/Raffles
LOCATION:Cedarville United Methodist Church\, 1092 Laurelwood Rd.\, Pottstown (NEAR Coventry Mall "behind" closed old movie theater)
UID:e.2183.847609
SEQUENCE:3
DTSTAMP:20260420T181407Z
URL:https://business.tricountyareachamber.com/events/details/pasta-dinner-jazz-ojr-hs-847609
END:VEVENT

END:VCALENDAR
