BEGIN:VCALENDAR
VERSION:2.0
PRODID:-//ChamberMaster//Event Calendar 2.0//EN
METHOD:PUBLISH
X-PUBLISHED-TTL:P3D
REFRESH-INTERVAL:P3D
CALSCALE:GREGORIAN
BEGIN:VEVENT
DTSTART:20200611T130000Z
DTEND:20200611T140000Z
X-MICROSOFT-CDO-ALLDAYEVENT:FALSE
SUMMARY:Paycheck Protection Program (PPP) Loan Forgiveness
DESCRIPTION:Thomas C. Yankanich\, CPA\, Director\n\nDavid Shaffer\, CPA\, Director\n\n \n\nPaycheck Protection Program (PPP) Loan Forgiveness presented by Kreischer Miller\n\n	Update on the Ever Changing Environment of PPP Loan Program\n	PPP Loan Forgiveness Application\n	PPP Loan Certification Documentation\n	Frequently Asked Questions
X-ALT-DESC;FMTTYPE=text/html:<span style="color: rgb(31\, 73\, 125)\;">Thomas C. Yankanich\, CPA\, Director</span><br />\n<span style="color: rgb(31\, 73\, 125)\;">David Shaffer\, CPA\, Director</span><br />\n&nbsp\;<br />\n<span style="color: rgb(31\, 73\, 125)\;">Paycheck Protection Program (PPP) Loan Forgiveness presented by Kreischer Miller</span>\n<ul>\n	<li style="color: rgb(31\, 73\, 125)\; margin-left: 0in\;">Update on the Ever Changing Environment of PPP Loan Program</li>\n	<li style="color: rgb(31\, 73\, 125)\; margin-left: 0in\;">PPP Loan Forgiveness Application</li>\n	<li style="color: rgb(31\, 73\, 125)\; margin-left: 0in\;">PPP Loan Certification Documentation</li>\n	<li style="color: rgb(31\, 73\, 125)\; margin-left: 0in\;"><span style="color: rgb(31\, 73\, 125)\;"><span style="font-family: calibri\,sans-serif\;"><span style="font-size: 11pt\;">Frequently Asked Questions</span></span></span></li>\n</ul>\n
LOCATION:Virtual Event Zoom participation instructions will be sent to those registered prior to the event.
UID:e.2183.856299
SEQUENCE:3
DTSTAMP:20260422T080649Z
URL:https://business.tricountyareachamber.com/events/details/paycheck-protection-program-ppp-loan-forgiveness-856299
END:VEVENT

END:VCALENDAR
