BEGIN:VCALENDAR
VERSION:2.0
PRODID:-//ChamberMaster//Event Calendar 2.0//EN
METHOD:PUBLISH
X-PUBLISHED-TTL:P3D
REFRESH-INTERVAL:P3D
CALSCALE:GREGORIAN
BEGIN:VEVENT
DTSTART:20161109T220000Z
DTEND:20161110T020000Z
X-MICROSOFT-CDO-ALLDAYEVENT:FALSE
SUMMARY:PDIDA Friendly's Fundraiser
DESCRIPTION:10% of every check will go towards the Hometown Holiday Events   Be sure to join us!\n\n\nHOMETOWN HOLIDAYS   December 9\, 10\, 11 2016
X-ALT-DESC;FMTTYPE=text/html:10% of every check will go towards the Hometown Holiday Events &ndash\; Be sure to join us!\n<div><br />\nHOMETOWN HOLIDAYS &ndash\; December 9\, 10\, 11 2016&nbsp\;</div>\n
LOCATION:Friendly's 200 Shoemaker Rd. Pottstown\, PA 19464
UID:e.2183.847358
SEQUENCE:3
DTSTAMP:20260422T112705Z
URL:https://business.tricountyareachamber.com/events/details/pdida-friendly-s-fundraiser-847358
END:VEVENT

END:VCALENDAR
