BEGIN:VCALENDAR
VERSION:2.0
PRODID:-//ChamberMaster//Event Calendar 2.0//EN
METHOD:PUBLISH
X-PUBLISHED-TTL:P3D
REFRESH-INTERVAL:P3D
CALSCALE:GREGORIAN
BEGIN:VEVENT
DTSTART:20161110T223000Z
DTEND:20161111T003000Z
X-MICROSOFT-CDO-ALLDAYEVENT:FALSE
SUMMARY:PEAK/PSD Let's Talk Community Conversations
DESCRIPTION:Join fellow PSD families in conversations about connecting in our schools and community\, includes food\, raffles\, children's activities and Spanish interpreters.
X-ALT-DESC;FMTTYPE=text/html:Join fellow PSD families in conversations about connecting in our schools and community\, includes food\, raffles\, children&#39\;s activities and Spanish interpreters.
LOCATION:Lincoln Elementary School 461 N York St. Pottstown\, PA 19464
UID:e.2183.846161
SEQUENCE:3
DTSTAMP:20260422T113034Z
URL:https://business.tricountyareachamber.com/events/details/peak-psd-let-s-talk-community-conversations-11-10-2016-846161
END:VEVENT

END:VCALENDAR
