BEGIN:VCALENDAR
VERSION:2.0
PRODID:-//ChamberMaster//Event Calendar 2.0//EN
METHOD:PUBLISH
X-PUBLISHED-TTL:P3D
REFRESH-INTERVAL:P3D
CALSCALE:GREGORIAN
BEGIN:VEVENT
DTSTART:20180517T220000Z
DTEND:20180518T010000Z
X-MICROSOFT-CDO-ALLDAYEVENT:FALSE
SUMMARY:Peppa Pig Live!
DESCRIPTION:Surprise! Peppa Pig is hitting the road for her all new theatrical tour\, Peppa Pig's Surprise! The brand new production features Peppa\, George\, and all their friends in an all-singing\, all-dancing adventure full of songs\, games and surprises!
X-ALT-DESC;FMTTYPE=text/html:Surprise! Peppa Pig is hitting the road for her all new theatrical tour\, Peppa Pig&rsquo\;s Surprise! The brand new production features Peppa\, George\, and all their friends in an all-singing\, all-dancing adventure full of songs\, games and surprises!
LOCATION:Santander Performing Arts Center
UID:e.2183.850254
SEQUENCE:3
DTSTAMP:20260424T012704Z
URL:https://business.tricountyareachamber.com/events/details/peppa-pig-live-850254
END:VEVENT

END:VCALENDAR
