BEGIN:VCALENDAR
VERSION:2.0
PRODID:-//ChamberMaster//Event Calendar 2.0//EN
METHOD:PUBLISH
X-PUBLISHED-TTL:P3D
REFRESH-INTERVAL:P3D
CALSCALE:GREGORIAN
BEGIN:VEVENT
DTSTART:20170429T140000Z
DTEND:20170429T180000Z
X-MICROSOFT-CDO-ALLDAYEVENT:FALSE
SUMMARY:Pet (Adopt)ion Day
DESCRIPTION:Pet related vendors\n	Dog & Cat food drive\n	Local rescues with pets for adoption\n	Free vaccine clinic for cats & dogs - please enter Vaccine Clinic at S. Hanover St.
X-ALT-DESC;FMTTYPE=text/html:<ul>\n	<li>Pet related vendors</li>\n	<li>Dog &amp\; Cat food drive</li>\n	<li>Local rescues with pets for adoption</li>\n	<li>Free vaccine clinic for cats &amp\; dogs - please enter Vaccine Clinic at S. Hanover St.</li>\n</ul>\n
LOCATION:Smith Family Plaza 100 High St. Pottstown\, PA 19464
UID:e.2183.847580
SEQUENCE:3
DTSTAMP:20260420T181341Z
URL:https://business.tricountyareachamber.com/events/details/pet-adopt-ion-day-847580
END:VEVENT

END:VCALENDAR
