BEGIN:VCALENDAR
VERSION:2.0
PRODID:-//ChamberMaster//Event Calendar 2.0//EN
METHOD:PUBLISH
X-PUBLISHED-TTL:P3D
REFRESH-INTERVAL:P3D
CALSCALE:GREGORIAN
BEGIN:VEVENT
DTSTART:20170610T150000Z
DTEND:20170610T220000Z
X-MICROSOFT-CDO-ALLDAYEVENT:FALSE
SUMMARY:Philadelphia Ave Street Fair
DESCRIPTION:The Berks-Mont Business Association is pleased to announce the\n\nPHILADELPHIA AVE STREET FAIR\n\nwill be held Saturday\, June 10\, 2017\n\nfrom 11 AM to 6 PM.\n\nHosted by the BMBA\, the event will include a full line up of entertainment\, including music by The Boyertown Alumni Band\, Mango Men\, and several more to be named.\n\n \n\nTons of fun activities including the zipline\, rockwall\, extreme trampoline bounce\, scavenger hunt\, petting zoo\, exotic animal show\, magician\, street performer\, food vendors\, beverages\, food trucks\, crafter and pop-up entertainment for the whole family.\n\n\n\nBusinesses of all sizes\, a variety of nonprofit organizations\, groups and clubs will be on hand to provide information\, activities\, raffles and more!
X-ALT-DESC;FMTTYPE=text/html:<p align="center" style="margin:0in\;margin-bottom:.0001pt\;text-align:center\;\nbackground:white">The Berks-Mont Business Association is pleased to announce the<o:p></o:p></p>\n\n<p align="center" style="margin: 0in 0in 0.0001pt\; text-align: center\; background: white\;"><strong>PHILADELPHIA AVE STREET FAIR</strong><o:p></o:p></p>\n\n<p align="center" style="margin: 0in 0in 0.0001pt\; text-align: center\; background: white\;"><strong>will be held Saturday\, June 10\, 2017</strong><o:p></o:p></p>\n\n<p align="center" style="margin: 0in 0in 0.0001pt\; text-align: center\; background: white\;"><strong>from 11&nbsp\;AM&nbsp\;to 6 PM.</strong><o:p></o:p></p>\n\n<p style="margin: 0px\; padding: 0px\; font-family: tahoma\, verdana\, sans-serif\; font-size: 14.4px\; background-color: rgb(255\, 255\, 255)\;"><font face="Arial\, Helvetica\, sans-serif" style="font-size: 18px\;">Hosted by the BMBA\, the event will include a full line up of entertainment\, including music by The Boyertown Alumni Band\, Mango Men\, and several more to be named.</font></p>\n\n<p style="margin: 0px\; padding: 0px\; font-family: tahoma\, verdana\, sans-serif\; font-size: 14.4px\; background-color: rgb(255\, 255\, 255)\;">&nbsp\;</p>\n\n<p style="margin: 0px\; padding: 0px\; font-family: tahoma\, verdana\, sans-serif\; font-size: 14.4px\; background-color: rgb(255\, 255\, 255)\;"><font face="Arial\, Helvetica\, sans-serif" style="font-size: 18px\;">Tons of fun activities including the zipline\, rockwall\, extreme trampoline bounce\, scavenger hunt\, petting zoo\, exotic animal show\, magician\, street performer\, food vendors\, beverages\, food trucks\, crafter and pop-up entertainment for the whole family.</font><br />\n<br />\n<span style="font-family: Arial\, Helvetica\, sans-serif\; font-size: 18px\; background-color: rgb(255\, 255\, 255)\;">Businesses of all sizes\, a variety of nonprofit organizations\, groups and clubs will be on hand to provide information\, activities\, raffles and more!&nbsp\;</span></p>\n\n<p align="center" style="margin: 0in 0in 0.0001pt\; text-align: center\; line-height: 12pt\; background: white\;"><o:p></o:p></p>\n
LOCATION:Philadelphia Ave Boyertown\, PA 19512
UID:e.2183.847678
SEQUENCE:3
DTSTAMP:20260420T213659Z
URL:https://business.tricountyareachamber.com/events/details/philadelphia-ave-street-fair-847678
END:VEVENT

END:VCALENDAR
